BEGIN:VCALENDAR
VERSION:2.0
PRODID:-//Lillooet Friendship Centre Society - ECPv6.10.1.1//NONSGML v1.0//EN
CALSCALE:GREGORIAN
METHOD:PUBLISH
X-ORIGINAL-URL:http://www.lfcs.ca
X-WR-CALDESC:Events for Lillooet Friendship Centre Society
REFRESH-INTERVAL;VALUE=DURATION:PT1H
X-Robots-Tag:noindex
X-PUBLISHED-TTL:PT1H
BEGIN:VTIMEZONE
TZID:America/Los_Angeles
BEGIN:DAYLIGHT
TZOFFSETFROM:-0800
TZOFFSETTO:-0700
TZNAME:PDT
DTSTART:20250309T100000
END:DAYLIGHT
BEGIN:STANDARD
TZOFFSETFROM:-0700
TZOFFSETTO:-0800
TZNAME:PST
DTSTART:20251102T090000
END:STANDARD
END:VTIMEZONE
BEGIN:VEVENT
DTSTART;TZID=America/Los_Angeles:20250314T100000
DTEND;TZID=America/Los_Angeles:20250314T150000
DTSTAMP:20260422T024823
CREATED:20250304T232457Z
LAST-MODIFIED:20250304T232457Z
UID:4398-1741946400-1741964400@www.lfcs.ca
SUMMARY:JUNIPER DAY RECOVERY PROGRAM 10A-3P EXCEPT HOLIDAYS
DESCRIPTION:
URL:http://www.lfcs.ca/event/juniper-day-recovery-program-10a-3p-except-holidays-5/
LOCATION:Community Cares Building\, 76-5th Avenue\, Lillooet BC\, BC\, V0K1V0\, Canada
ORGANIZER;CN="Shivanii Devii":MAILTO:recovery@lfcs.ca
END:VEVENT
BEGIN:VEVENT
DTSTART;TZID=America/Los_Angeles:20250314T130000
DTEND;TZID=America/Los_Angeles:20250314T150000
DTSTAMP:20260422T024823
CREATED:20250304T233432Z
LAST-MODIFIED:20250304T233432Z
UID:4402-1741957200-1741964400@www.lfcs.ca
SUMMARY:LFC FOOD BANK DAY SR ONLY 1P-3P
DESCRIPTION:
URL:http://www.lfcs.ca/event/lfc-food-bank-day-sr-only-1p-3p/
LOCATION:Community Cares Building\, 76-5th Avenue\, Lillooet BC\, BC\, V0K1V0\, Canada
ORGANIZER;CN="Kim Colliss":MAILTO:foodbank@lfcs.ca
END:VEVENT
BEGIN:VEVENT
DTSTART;TZID=America/Los_Angeles:20250314T140000
DTEND;TZID=America/Los_Angeles:20250314T163000
DTSTAMP:20260422T024823
CREATED:20250304T233131Z
LAST-MODIFIED:20250304T233131Z
UID:4400-1741960800-1741969800@www.lfcs.ca
SUMMARY:THE LINK PROGRAM FRIDAYS EXCEPT HOLIDAYS 2P-4:30 P
DESCRIPTION:
URL:http://www.lfcs.ca/event/the-link-program-fridays-except-holidays-2p-430-p/
LOCATION:Room 203 @ Rec Centre Lillooet\, 930 Main St\, Lillooet\, BC\, V0K 1V0\, Canada
END:VEVENT
BEGIN:VEVENT
DTSTART;TZID=America/Los_Angeles:20250317T100000
DTEND;TZID=America/Los_Angeles:20250317T150000
DTSTAMP:20260422T024823
CREATED:20250304T235513Z
LAST-MODIFIED:20250304T235513Z
UID:4408-1742205600-1742223600@www.lfcs.ca
SUMMARY:JUNIPER DAY RECOVERY PROGRAM 10A-3P M-F EXCEPT HOLIDAYS
DESCRIPTION:
URL:http://www.lfcs.ca/event/juniper-day-recovery-program-10a-3p-m-f-except-holidays-14/
LOCATION:Community Cares Building\, 76-5th Avenue\, Lillooet BC\, BC\, V0K1V0\, Canada
ORGANIZER;CN="Shivanii Devii":MAILTO:recovery@lfcs.ca
END:VEVENT
BEGIN:VEVENT
DTSTART;TZID=America/Los_Angeles:20250317T130000
DTEND;TZID=America/Los_Angeles:20250317T150000
DTSTAMP:20260422T024823
CREATED:20250304T235647Z
LAST-MODIFIED:20250304T235647Z
UID:4410-1742216400-1742223600@www.lfcs.ca
SUMMARY:LFC FOOD BANK 1P-3P MONDAY'S EXCEPT  HOLIDAY
DESCRIPTION:
URL:http://www.lfcs.ca/event/lfc-food-bank-1p-3p-mondays-except-holiday/
LOCATION:Community Cares Building\, 76-5th Avenue\, Lillooet BC\, BC\, V0K1V0\, Canada
ORGANIZER;CN="Kim Colliss":MAILTO:foodbank@lfcs.ca
END:VEVENT
BEGIN:VEVENT
DTSTART;TZID=America/Los_Angeles:20250318T100000
DTEND;TZID=America/Los_Angeles:20250321T150000
DTSTAMP:20260422T024823
CREATED:20250305T001118Z
LAST-MODIFIED:20250305T001118Z
UID:4417-1742292000-1742569200@www.lfcs.ca
SUMMARY:THE JUNIPER DAY RECOVERY PROGRAM 10A-3P M-F EXCEPT HOLIDAYS
DESCRIPTION:
URL:http://www.lfcs.ca/event/the-juniper-day-recovery-program-10a-3p-m-f-except-holidays-9/
LOCATION:Community Cares Building\, 76-5th Avenue\, Lillooet BC\, BC\, V0K1V0\, Canada
END:VEVENT
BEGIN:VEVENT
DTSTART;TZID=America/Los_Angeles:20250318T120000
DTEND;TZID=America/Los_Angeles:20250318T130000
DTSTAMP:20260422T024823
CREATED:20250305T001641Z
LAST-MODIFIED:20250305T001641Z
UID:4423-1742299200-1742302800@www.lfcs.ca
SUMMARY:BETTER LIVING LUNCH 12P-1P EXCEPT HOLIDAYS
DESCRIPTION:
URL:http://www.lfcs.ca/event/better-living-lunch-12p-1p-except-holidays/
LOCATION:Activity Centre\, 737 Main Street\, Lillooet\, BC\, V0K1V0\, Canada
ORGANIZER;CN="Elaine Roque":MAILTO:elainejroque@gmail.com
END:VEVENT
BEGIN:VEVENT
DTSTART;TZID=America/Los_Angeles:20250319T120000
DTEND;TZID=America/Los_Angeles:20250319T130000
DTSTAMP:20260422T024823
CREATED:20250305T002000Z
LAST-MODIFIED:20250305T002000Z
UID:4425-1742385600-1742389200@www.lfcs.ca
SUMMARY:LFC FOOD BANK LUNCH 12P-1P EXCEPT HOLIDAYS
DESCRIPTION:
URL:http://www.lfcs.ca/event/lfc-food-bank-lunch-12p-1p-except-holidays-2/
LOCATION:Activity Centre\, 737 Main Street\, Lillooet\, BC\, V0K1V0\, Canada
ORGANIZER;CN="Kim Colliss":MAILTO:foodbank@lfcs.ca
END:VEVENT
BEGIN:VEVENT
DTSTART;TZID=America/Los_Angeles:20250319T170000
DTEND;TZID=America/Los_Angeles:20250319T203000
DTSTAMP:20260422T024823
CREATED:20250305T002538Z
LAST-MODIFIED:20250305T002614Z
UID:4427-1742403600-1742416200@www.lfcs.ca
SUMMARY:WOMENS CULTURE NIGHT WEDNESDAY'S EXCEPT HOLIDAYS
DESCRIPTION:WOMEN’S CULTURE NIGHT WEDNESDAY NIGHTS \nWITH GLORIA J 250-256-4146 X206 \n5P-8:30P \nWOMEN ONLY
URL:http://www.lfcs.ca/event/womens-culture-night-wednesdays-except-holidays/
LOCATION:Activity Centre\, 737 Main Street\, Lillooet\, BC\, V0K1V0\, Canada
END:VEVENT
BEGIN:VEVENT
DTSTART;TZID=America/Los_Angeles:20250324T100000
DTEND;TZID=America/Los_Angeles:20250328T150000
DTSTAMP:20260422T024823
CREATED:20250305T001314Z
LAST-MODIFIED:20250305T001314Z
UID:4419-1742810400-1743174000@www.lfcs.ca
SUMMARY:THE JUNIPER DAY RECOVERY PROGRAM 10A-3P EXCEPT HOLIDAYS
DESCRIPTION:
URL:http://www.lfcs.ca/event/the-juniper-day-recovery-program-10a-3p-except-holidays-4/
LOCATION:Community Cares Building\, 76-5th Avenue\, Lillooet BC\, BC\, V0K1V0\, Canada
ORGANIZER;CN="Shivanii Devii":MAILTO:recovery@lfcs.ca
END:VEVENT
BEGIN:VEVENT
DTSTART;TZID=America/Los_Angeles:20250327T170000
DTEND;TZID=America/Los_Angeles:20250327T200000
DTSTAMP:20260422T024823
CREATED:20250312T181227Z
LAST-MODIFIED:20250312T181227Z
UID:4429-1743094800-1743105600@www.lfcs.ca
SUMMARY:Language Session with Lena Sangret Wednesdays 5pm-8pm
DESCRIPTION:
URL:http://www.lfcs.ca/event/language-session-with-lena-sangret-wednesdays-5pm-8pm/
LOCATION:Activity Centre\, 737 Main Street\, Lillooet\, BC\, V0K1V0\, Canada
END:VEVENT
BEGIN:VEVENT
DTSTART;TZID=America/Los_Angeles:20250331T100000
DTEND;TZID=America/Los_Angeles:20250331T150000
DTSTAMP:20260422T024823
CREATED:20250305T001508Z
LAST-MODIFIED:20250305T001508Z
UID:4421-1743415200-1743433200@www.lfcs.ca
SUMMARY:THE JUNIPER DAY RECOVERY PROGRAM 10A-3P EXCEPT HOLIDAYS
DESCRIPTION:
URL:http://www.lfcs.ca/event/the-juniper-day-recovery-program-10a-3p-except-holidays-5/
LOCATION:Community Cares Building\, 76-5th Avenue\, Lillooet BC\, BC\, V0K1V0\, Canada
END:VEVENT
BEGIN:VEVENT
DTSTART;TZID=America/Los_Angeles:20250422T093000
DTEND;TZID=America/Los_Angeles:20250422T120000
DTSTAMP:20260422T024823
CREATED:20250403T231900Z
LAST-MODIFIED:20250403T231900Z
UID:4448-1745314200-1745323200@www.lfcs.ca
SUMMARY:Earth Day Community Clean up
DESCRIPTION:
URL:http://www.lfcs.ca/event/earth-day-community-clean-up/
LOCATION:Community Cares Building\, 76-5th Avenue\, Lillooet BC\, BC\, V0K1V0\, Canada
END:VEVENT
BEGIN:VEVENT
DTSTART;TZID=America/Los_Angeles:20250505T100000
DTEND;TZID=America/Los_Angeles:20250505T113000
DTSTAMP:20260422T024823
CREATED:20250331T155438Z
LAST-MODIFIED:20250331T155438Z
UID:4438-1746439200-1746444600@www.lfcs.ca
SUMMARY:MMIWG2S
DESCRIPTION:
URL:http://www.lfcs.ca/event/mmiwg2s/
END:VEVENT
BEGIN:VEVENT
DTSTART;TZID=America/Los_Angeles:20250519T083000
DTEND;TZID=America/Los_Angeles:20250519T163000
DTSTAMP:20260422T024823
CREATED:20250514T232325Z
LAST-MODIFIED:20250514T232519Z
UID:4463-1747643400-1747672200@www.lfcs.ca
SUMMARY:Stat Holiday
DESCRIPTION:
URL:http://www.lfcs.ca/event/stat-holiday/
END:VEVENT
BEGIN:VEVENT
DTSTART;TZID=America/Los_Angeles:20250527T120000
DTEND;TZID=America/Los_Angeles:20250527T130000
DTSTAMP:20260422T024823
CREATED:20250526T182104Z
LAST-MODIFIED:20250526T182104Z
UID:4477-1748347200-1748350800@www.lfcs.ca
SUMMARY:Better Living Society Lunch
DESCRIPTION:For information\, contact: 250-256-8852
URL:http://www.lfcs.ca/event/better-living-society-lunch/
LOCATION:Activity Centre\, 737 Main Street\, Lillooet\, BC\, V0K1V0\, Canada
END:VEVENT
BEGIN:VEVENT
DTSTART;TZID=America/Los_Angeles:20250528T120000
DTEND;TZID=America/Los_Angeles:20250528T130000
DTSTAMP:20260422T024823
CREATED:20250528T154856Z
LAST-MODIFIED:20250528T154856Z
UID:4481-1748433600-1748437200@www.lfcs.ca
SUMMARY:Food Bank Lunch
DESCRIPTION:Time: 12:00 PM – 1:00PM \nLocated at: 737 Main Street (Former Legion) \nContact Kim at: 250-256-8852
URL:http://www.lfcs.ca/event/food-bank-lunch/
LOCATION:Activity Centre\, 737 Main Street\, Lillooet\, BC\, V0K1V0\, Canada
ORGANIZER;CN="Kim Colliss":MAILTO:foodbank@lfcs.ca
END:VEVENT
BEGIN:VEVENT
DTSTART;TZID=America/Los_Angeles:20250530T093000
DTEND;TZID=America/Los_Angeles:20250530T150000
DTSTAMP:20260422T024823
CREATED:20250509T165152Z
LAST-MODIFIED:20250509T165152Z
UID:4458-1748597400-1748617200@www.lfcs.ca
SUMMARY:Garage Sale
DESCRIPTION:
URL:http://www.lfcs.ca/event/garage-sale/
LOCATION:Activity Centre\, 737 Main Street\, Lillooet\, BC\, V0K1V0\, Canada
END:VEVENT
BEGIN:VEVENT
DTSTART;TZID=America/Los_Angeles:20250602T170000
DTEND;TZID=America/Los_Angeles:20250602T200000
DTSTAMP:20260422T024823
CREATED:20250428T203552Z
LAST-MODIFIED:20250428T203552Z
UID:4453-1748883600-1748894400@www.lfcs.ca
SUMMARY:Women's Group
DESCRIPTION:Every Monday except for Holidays.
URL:http://www.lfcs.ca/event/womens-group-12/
LOCATION:Activity Centre\, 737 Main Street\, Lillooet\, BC\, V0K1V0\, Canada
END:VEVENT
BEGIN:VEVENT
DTSTART;TZID=America/Los_Angeles:20250708T120000
DTEND;TZID=America/Los_Angeles:20250708T130000
DTSTAMP:20260422T024823
CREATED:20250709T163516Z
LAST-MODIFIED:20250709T163516Z
UID:4492-1751976000-1751979600@www.lfcs.ca
SUMMARY:Better Living Society
DESCRIPTION:
URL:http://www.lfcs.ca/event/better-living-society-4/
LOCATION:Activity Centre\, 737 Main Street\, Lillooet\, BC\, V0K1V0\, Canada
END:VEVENT
BEGIN:VEVENT
DTSTART;TZID=America/Los_Angeles:20250709T120000
DTEND;TZID=America/Los_Angeles:20250709T130000
DTSTAMP:20260422T024823
CREATED:20250709T163657Z
LAST-MODIFIED:20250709T163657Z
UID:4495-1752062400-1752066000@www.lfcs.ca
SUMMARY:Food Bank Lunch
DESCRIPTION:
URL:http://www.lfcs.ca/event/food-bank-lunch-2/
LOCATION:Activity Centre\, 737 Main Street\, Lillooet\, BC\, V0K1V0\, Canada
ORGANIZER;CN="Kim Colliss":MAILTO:foodbank@lfcs.ca
END:VEVENT
BEGIN:VEVENT
DTSTART;TZID=America/Los_Angeles:20250710T103000
DTEND;TZID=America/Los_Angeles:20250710T120000
DTSTAMP:20260422T024823
CREATED:20250709T163209Z
LAST-MODIFIED:20250709T163209Z
UID:4489-1752143400-1752148800@www.lfcs.ca
SUMMARY:Invasive Species
DESCRIPTION:
URL:http://www.lfcs.ca/event/invasive-species/
LOCATION:Activity Centre\, 737 Main Street\, Lillooet\, BC\, V0K1V0\, Canada
ORGANIZER;CN="Connie Konkin":MAILTO:eysccoach@lfcs.ca
END:VEVENT
BEGIN:VEVENT
DTSTART;TZID=America/Los_Angeles:20250902T120000
DTEND;TZID=America/Los_Angeles:20250902T130000
DTSTAMP:20260422T024823
CREATED:20250828T225905Z
LAST-MODIFIED:20250828T225905Z
UID:4513-1756814400-1756818000@www.lfcs.ca
SUMMARY:Better Living Society Lunch
DESCRIPTION:
URL:http://www.lfcs.ca/event/better-living-society-lunch-2/
END:VEVENT
BEGIN:VEVENT
DTSTART;TZID=America/Los_Angeles:20250903T120000
DTEND;TZID=America/Los_Angeles:20250903T130000
DTSTAMP:20260422T024823
CREATED:20250828T230505Z
LAST-MODIFIED:20250828T230505Z
UID:4519-1756900800-1756904400@www.lfcs.ca
SUMMARY:Food Bank Lunch
DESCRIPTION:
URL:http://www.lfcs.ca/event/food-bank-lunch-3/
END:VEVENT
BEGIN:VEVENT
DTSTART;TZID=America/Los_Angeles:20250910T120000
DTEND;TZID=America/Los_Angeles:20250910T130000
DTSTAMP:20260422T024823
CREATED:20250908T215006Z
LAST-MODIFIED:20250908T215006Z
UID:4523-1757505600-1757509200@www.lfcs.ca
SUMMARY:Food Bank Lunch
DESCRIPTION:
URL:http://www.lfcs.ca/event/food-bank-lunch-4/
END:VEVENT
BEGIN:VEVENT
DTSTART;TZID=America/Los_Angeles:20250925T083000
DTEND;TZID=America/Los_Angeles:20251231T163000
DTSTAMP:20260422T024823
CREATED:20250925T221036Z
LAST-MODIFIED:20251003T230851Z
UID:4566-1758789000-1767198600@www.lfcs.ca
SUMMARY:We Are Hiring - Posted until Filled
DESCRIPTION:
URL:http://www.lfcs.ca/event/we-are-hiring/
END:VEVENT
BEGIN:VEVENT
DTSTART;TZID=America/Los_Angeles:20250929T083000
DTEND;TZID=America/Los_Angeles:20250930T163000
DTSTAMP:20260422T024823
CREATED:20250925T231422Z
LAST-MODIFIED:20250925T231422Z
UID:4586-1759134600-1759249800@www.lfcs.ca
SUMMARY:Offices Closed
DESCRIPTION:Both Offices Closed Sept 29\, 30\, 2025
URL:http://www.lfcs.ca/event/offices-closed-2/
END:VEVENT
BEGIN:VEVENT
DTSTART;TZID=America/Los_Angeles:20250930T100000
DTEND;TZID=America/Los_Angeles:20250930T163000
DTSTAMP:20260422T024823
CREATED:20250925T203736Z
LAST-MODIFIED:20250925T203736Z
UID:4554-1759226400-1759249800@www.lfcs.ca
SUMMARY:Truth and Reconciliation March
DESCRIPTION:
URL:http://www.lfcs.ca/event/truth-and-reconciliation-march/
END:VEVENT
BEGIN:VEVENT
DTSTART;TZID=America/Los_Angeles:20251001T000000
DTEND;TZID=America/Los_Angeles:20251001T130000
DTSTAMP:20260422T024823
CREATED:20250925T215218Z
LAST-MODIFIED:20250925T215218Z
UID:4562-1759276800-1759323600@www.lfcs.ca
SUMMARY:Food Bank Lunch
DESCRIPTION:
URL:http://www.lfcs.ca/event/food-bank-lunch-5/
END:VEVENT
BEGIN:VEVENT
DTSTART;TZID=America/Los_Angeles:20251008T120000
DTEND;TZID=America/Los_Angeles:20251008T130000
DTSTAMP:20260422T024823
CREATED:20251003T224704Z
LAST-MODIFIED:20251003T224704Z
UID:4592-1759924800-1759928400@www.lfcs.ca
SUMMARY:Food Bank Lunch Oct. 8\, 2025
DESCRIPTION:
URL:http://www.lfcs.ca/event/food-bank-lunch-oct-8-2025/
END:VEVENT
END:VCALENDAR