BEGIN:VCALENDAR
VERSION:2.0
PRODID:-//Lillooet Friendship Centre Society - ECPv6.10.1.1//NONSGML v1.0//EN
CALSCALE:GREGORIAN
METHOD:PUBLISH
X-WR-CALNAME:Lillooet Friendship Centre Society
X-ORIGINAL-URL:http://www.lfcs.ca
X-WR-CALDESC:Events for Lillooet Friendship Centre Society
REFRESH-INTERVAL;VALUE=DURATION:PT1H
X-Robots-Tag:noindex
X-PUBLISHED-TTL:PT1H
BEGIN:VTIMEZONE
TZID:America/Los_Angeles
BEGIN:DAYLIGHT
TZOFFSETFROM:-0800
TZOFFSETTO:-0700
TZNAME:PDT
DTSTART:20250309T100000
END:DAYLIGHT
BEGIN:STANDARD
TZOFFSETFROM:-0700
TZOFFSETTO:-0800
TZNAME:PST
DTSTART:20251102T090000
END:STANDARD
END:VTIMEZONE
BEGIN:VEVENT
DTSTART;TZID=America/Los_Angeles:20250210T130000
DTEND;TZID=America/Los_Angeles:20250210T150000
DTSTAMP:20260422T024732
CREATED:20250206T191105Z
LAST-MODIFIED:20250206T191105Z
UID:4166-1739192400-1739199600@www.lfcs.ca
SUMMARY:LILLOOET FRIENDSHIP CENTRE FOOD BANK LUNCH 1PM-3PM EXCEPT STAT HOLIDAYS
DESCRIPTION:
URL:http://www.lfcs.ca/event/lillooet-friendship-centre-food-bank-lunch-1pm-3pm-except-stat-holidays/
LOCATION:Community Cares Building\, 76-5th Avenue\, Lillooet BC\, BC\, V0K1V0\, Canada
ORGANIZER;CN="Kim Colliss":MAILTO:foodbank@lfcs.ca
END:VEVENT
BEGIN:VEVENT
DTSTART;TZID=America/Los_Angeles:20250210T100000
DTEND;TZID=America/Los_Angeles:20250210T150000
DTSTAMP:20260422T024732
CREATED:20250206T220101Z
LAST-MODIFIED:20250207T225738Z
UID:4183-1739181600-1739199600@www.lfcs.ca
SUMMARY:Juniper Day Recovery Program m-f except holidays 10a-3p
DESCRIPTION:
URL:http://www.lfcs.ca/event/juniper-day-recovery-program-m-f-except-holidays-10a-3p/
LOCATION:Community Cares Building\, 76-5th Avenue\, Lillooet BC\, BC\, V0K1V0\, Canada
ORGANIZER;CN="Shivanii Devii":MAILTO:recovery@lfcs.ca
END:VEVENT
BEGIN:VEVENT
DTSTART;TZID=America/Los_Angeles:20250207T130000
DTEND;TZID=America/Los_Angeles:20250207T150000
DTSTAMP:20260422T024732
CREATED:20250206T194111Z
LAST-MODIFIED:20250206T194111Z
UID:4178-1738933200-1738940400@www.lfcs.ca
SUMMARY:LFC Sr Food Bank 1p-3p Fridays
DESCRIPTION:
URL:http://www.lfcs.ca/event/lfc-sr-food-bank-1p-3p-fridays/
LOCATION:Community Cares Building\, 76-5th Avenue\, Lillooet BC\, BC\, V0K1V0\, Canada
ORGANIZER;CN="Kim Colliss":MAILTO:foodbank@lfcs.ca
END:VEVENT
BEGIN:VEVENT
DTSTART;TZID=America/Los_Angeles:20250207T100000
DTEND;TZID=America/Los_Angeles:20250207T150000
DTSTAMP:20260422T024732
CREATED:20250206T193204Z
LAST-MODIFIED:20250206T193204Z
UID:4174-1738922400-1738940400@www.lfcs.ca
SUMMARY:The Juniper Day Recovery Program 10a-3p M-F except Stat Holidays
DESCRIPTION:
URL:http://www.lfcs.ca/event/the-juniper-day-recovery-program-10a-3p-m-f-except-stat-holidays/
LOCATION:Community Cares Building\, 76-5th Avenue\, Lillooet BC\, BC\, V0K1V0\, Canada
ORGANIZER;CN="Shivanii Devii":MAILTO:recovery@lfcs.ca
END:VEVENT
BEGIN:VEVENT
DTSTART;TZID=America/Los_Angeles:20250206T130000
DTEND;TZID=America/Los_Angeles:20250206T150000
DTSTAMP:20260422T024732
CREATED:20250206T191719Z
LAST-MODIFIED:20250206T191719Z
UID:4168-1738846800-1738854000@www.lfcs.ca
SUMMARY:Lillooet Friendship Centre Food Bank Lunch 1p-3p except Stat Holidays
DESCRIPTION:
URL:http://www.lfcs.ca/event/lillooet-friendship-centre-food-bank-lunch-1p-3p-except-stat-holidays/
LOCATION:Community Cares Building\, 76-5th Avenue\, Lillooet BC\, BC\, V0K1V0\, Canada
END:VEVENT
BEGIN:VEVENT
DTSTART;TZID=America/Los_Angeles:20250206T100000
DTEND;TZID=America/Los_Angeles:20250206T150000
DTSTAMP:20260422T024732
CREATED:20250206T185805Z
LAST-MODIFIED:20250206T185805Z
UID:4164-1738836000-1738854000@www.lfcs.ca
SUMMARY:Juniper Day Recovery Program M-F except Stat Holidays and otherwise posted
DESCRIPTION:
URL:http://www.lfcs.ca/event/juniper-day-recovery-program-m-f-except-stat-holidays-and-otherwise-posted/
LOCATION:Community Cares Building\, 76-5th Avenue\, Lillooet BC\, BC\, V0K1V0\, Canada
END:VEVENT
BEGIN:VEVENT
DTSTART;TZID=America/Los_Angeles:20250206T100000
DTEND;TZID=America/Los_Angeles:20250206T120000
DTSTAMP:20260422T024732
CREATED:20250206T192706Z
LAST-MODIFIED:20250206T192809Z
UID:4172-1738836000-1738843200@www.lfcs.ca
SUMMARY:Drumming In The Park Thursdays 10a-12p Except Holidays
DESCRIPTION:
URL:http://www.lfcs.ca/event/drumming-in-the-park-thursdays-10a-12p-except-holidays-2/
LOCATION:Dowton Park\, Park is situated next to the Lillooet Museum at 780 Main Street.\, BC\, V0K 1V0\, Canada
ORGANIZER;CN="Everett Tom":MAILTO:shelter@lfcs.ca
END:VEVENT
BEGIN:VEVENT
DTSTART;TZID=America/Los_Angeles:20250131T130000
DTEND;TZID=America/Los_Angeles:20250131T150000
DTSTAMP:20260422T024732
CREATED:20250117T231059Z
LAST-MODIFIED:20250117T231059Z
UID:4153-1738328400-1738335600@www.lfcs.ca
SUMMARY:SR FOOD BANK DAY 1P-3P
DESCRIPTION:
URL:http://www.lfcs.ca/event/sr-food-bank-day-1p-3p-5/
LOCATION:Community Cares Building\, 76-5th Avenue\, Lillooet BC\, BC\, V0K1V0\, Canada
ORGANIZER;CN="Kim Colliss":MAILTO:foodbank@lfcs.ca
END:VEVENT
BEGIN:VEVENT
DTSTART;TZID=America/Los_Angeles:20250131T100000
DTEND;TZID=America/Los_Angeles:20250131T150000
DTSTAMP:20260422T024732
CREATED:20250117T230831Z
LAST-MODIFIED:20250117T230831Z
UID:4150-1738317600-1738335600@www.lfcs.ca
SUMMARY:JUNIPER DAY RECOVERY PROGRAM 10A-3P
DESCRIPTION:
URL:http://www.lfcs.ca/event/juniper-day-recovery-program-10a-3p-33/
LOCATION:Community Cares Building\, 76-5th Avenue\, Lillooet BC\, BC\, V0K1V0\, Canada
END:VEVENT
BEGIN:VEVENT
DTSTART;TZID=America/Los_Angeles:20250130T130000
DTEND;TZID=America/Los_Angeles:20250130T150000
DTSTAMP:20260422T024732
CREATED:20250117T230542Z
LAST-MODIFIED:20250117T230542Z
UID:4148-1738242000-1738249200@www.lfcs.ca
SUMMARY:LFCS FOOD BANK 1P-3P
DESCRIPTION:
URL:http://www.lfcs.ca/event/lfcs-food-bank-1p-3p-2/
LOCATION:Community Cares Building\, 76-5th Avenue\, Lillooet BC\, BC\, V0K1V0\, Canada
ORGANIZER;CN="Kim Colliss":MAILTO:foodbank@lfcs.ca
END:VEVENT
BEGIN:VEVENT
DTSTART;TZID=America/Los_Angeles:20250130T100000
DTEND;TZID=America/Los_Angeles:20250130T150000
DTSTAMP:20260422T024732
CREATED:20250117T224648Z
LAST-MODIFIED:20250117T224648Z
UID:4141-1738231200-1738249200@www.lfcs.ca
SUMMARY:JUNIPER DAY RECOVERY PROGRAM 10A-3P
DESCRIPTION:
URL:http://www.lfcs.ca/event/juniper-day-recovery-program-10a-3p-32/
LOCATION:Community Cares Building\, 76-5th Avenue\, Lillooet BC\, BC\, V0K1V0\, Canada
ORGANIZER;CN="Shivanii Devii":MAILTO:recovery@lfcs.ca
END:VEVENT
BEGIN:VEVENT
DTSTART;TZID=America/Los_Angeles:20250130T100000
DTEND;TZID=America/Los_Angeles:20250130T120000
DTSTAMP:20260422T024732
CREATED:20250117T230205Z
LAST-MODIFIED:20250117T230205Z
UID:4146-1738231200-1738238400@www.lfcs.ca
SUMMARY:DRUMMING IN THE PARK 10A-12P
DESCRIPTION:
URL:http://www.lfcs.ca/event/drumming-in-the-park-10a-12p-2/
LOCATION:Dowton Park\, Park is situated next to the Lillooet Museum at 780 Main Street.\, BC\, V0K 1V0\, Canada
ORGANIZER;CN="Everett Tom":MAILTO:shelter@lfcs.ca
END:VEVENT
BEGIN:VEVENT
DTSTART;TZID=America/Los_Angeles:20250129T180000
DTEND;TZID=America/Los_Angeles:20250129T200000
DTSTAMP:20260422T024732
CREATED:20250117T223400Z
LAST-MODIFIED:20250117T223400Z
UID:4134-1738173600-1738180800@www.lfcs.ca
SUMMARY:MEN'S WELLNESS 6P-8P
DESCRIPTION:
URL:http://www.lfcs.ca/event/mens-wellness-6p-8p/
LOCATION:Community Cares Building\, 76-5th Avenue\, Lillooet BC\, BC\, V0K1V0\, Canada
END:VEVENT
BEGIN:VEVENT
DTSTART;TZID=America/Los_Angeles:20250129T170000
DTEND;TZID=America/Los_Angeles:20250129T200000
DTSTAMP:20260422T024732
CREATED:20250117T224408Z
LAST-MODIFIED:20250117T224408Z
UID:4139-1738170000-1738180800@www.lfcs.ca
SUMMARY:LANGUAGE SESSION WITH LENA WEDNESDAY 5P-8P
DESCRIPTION:
URL:http://www.lfcs.ca/event/language-session-with-lena-wednesday-5p-8p/
LOCATION:Activity Centre\, 737 Main Street\, Lillooet\, BC\, V0K1V0\, Canada
END:VEVENT
BEGIN:VEVENT
DTSTART;TZID=America/Los_Angeles:20250129T170000
DTEND;TZID=America/Los_Angeles:20250129T200000
DTSTAMP:20260422T024732
CREATED:20250117T224052Z
LAST-MODIFIED:20250117T224052Z
UID:4137-1738170000-1738180800@www.lfcs.ca
SUMMARY:WOMEN'S ONLY CULTURE & CRAFT NIGHT 5P-8P
DESCRIPTION:WOMEN’S CULTURE & CRAFT NIGHT \nWITH GLORIA @737 MAIN LILLOOET \n5P-8P \nLIGHT MEAL WOMEN ONLY \nCULTURE & ARTS/CRAFTS \nCALL GLORIA JOSEPH 250-256-4146
URL:http://www.lfcs.ca/event/womens-only-culture-craft-night-5p-8p/
LOCATION:Activity Centre\, 737 Main Street\, Lillooet\, BC\, V0K1V0\, Canada
END:VEVENT
BEGIN:VEVENT
DTSTART;TZID=America/Los_Angeles:20250129T120000
DTEND;TZID=America/Los_Angeles:20250129T130000
DTSTAMP:20260422T024732
CREATED:20250117T222210Z
LAST-MODIFIED:20250117T222210Z
UID:4129-1738152000-1738155600@www.lfcs.ca
SUMMARY:LFCS FOOD BANK LUNCH 12P-1P
DESCRIPTION:
URL:http://www.lfcs.ca/event/lfcs-food-bank-lunch-12p-1p-2/
LOCATION:Activity Centre\, 737 Main Street\, Lillooet\, BC\, V0K1V0\, Canada
END:VEVENT
BEGIN:VEVENT
DTSTART;TZID=America/Los_Angeles:20250129T100000
DTEND;TZID=America/Los_Angeles:20250129T150000
DTSTAMP:20260422T024732
CREATED:20250117T221237Z
LAST-MODIFIED:20250117T221237Z
UID:4125-1738144800-1738162800@www.lfcs.ca
SUMMARY:JUNIPER DAY RECOVERY PROGRAM 10A-3P M-F EXCEPT STAT HOLIDAYS
DESCRIPTION:
URL:http://www.lfcs.ca/event/juniper-day-recovery-program-10a-3p-m-f-except-stat-holidays/
LOCATION:Community Cares Building\, 76-5th Avenue\, Lillooet BC\, BC\, V0K1V0\, Canada
ORGANIZER;CN="Shivanii Devii":MAILTO:recovery@lfcs.ca
END:VEVENT
BEGIN:VEVENT
DTSTART;TZID=America/Los_Angeles:20250128T120000
DTEND;TZID=America/Los_Angeles:20250128T130000
DTSTAMP:20260422T024732
CREATED:20250117T220708Z
LAST-MODIFIED:20250117T220708Z
UID:4123-1738065600-1738069200@www.lfcs.ca
SUMMARY:THE BETTER LIVING SOCIETY LUNCH 12P-1P
DESCRIPTION:
URL:http://www.lfcs.ca/event/the-better-living-society-lunch-12p-1p/
LOCATION:Activity Centre\, 737 Main Street\, Lillooet\, BC\, V0K1V0\, Canada
ORGANIZER;CN="Elaine Roque":MAILTO:elainejroque@gmail.com
END:VEVENT
BEGIN:VEVENT
DTSTART;TZID=America/Los_Angeles:20250128T100000
DTEND;TZID=America/Los_Angeles:20250128T150000
DTSTAMP:20260422T024732
CREATED:20250117T221701Z
LAST-MODIFIED:20250117T221701Z
UID:4127-1738058400-1738076400@www.lfcs.ca
SUMMARY:JUNIPER DAY RECOVERY PROGRAM 10A-3P
DESCRIPTION:
URL:http://www.lfcs.ca/event/juniper-day-recovery-program-10a-3p-31/
LOCATION:Community Cares Building\, 76-5th Avenue\, Lillooet BC\, BC\, V0K1V0\, Canada
ORGANIZER;CN="Shivanii Devii":MAILTO:recovery@lfcs.ca
END:VEVENT
BEGIN:VEVENT
DTSTART;TZID=America/Los_Angeles:20250127T130000
DTEND;TZID=America/Los_Angeles:20250127T150000
DTSTAMP:20260422T024732
CREATED:20250117T215822Z
LAST-MODIFIED:20250117T220014Z
UID:4121-1737982800-1737990000@www.lfcs.ca
SUMMARY:FOOD BANK 1P-3P MONDAYS
DESCRIPTION:
URL:http://www.lfcs.ca/event/food-bank-1p-3p-mondays/
LOCATION:Community Cares Building\, 76-5th Avenue\, Lillooet BC\, BC\, V0K1V0\, Canada
ORGANIZER;CN="Kim Colliss":MAILTO:foodbank@lfcs.ca
END:VEVENT
BEGIN:VEVENT
DTSTART;TZID=America/Los_Angeles:20250127T100000
DTEND;TZID=America/Los_Angeles:20250127T150000
DTSTAMP:20260422T024732
CREATED:20250117T215553Z
LAST-MODIFIED:20250117T215553Z
UID:4119-1737972000-1737990000@www.lfcs.ca
SUMMARY:JUNIPER DAY RECOVERY PROGRAM 10A-3P
DESCRIPTION:
URL:http://www.lfcs.ca/event/juniper-day-recovery-program-10a-3p-30/
LOCATION:Community Cares Building\, 76-5th Avenue\, Lillooet BC\, BC\, V0K1V0\, Canada
ORGANIZER;CN="Shivanii Devii":MAILTO:recovery@lfcs.ca
END:VEVENT
BEGIN:VEVENT
DTSTART;TZID=America/Los_Angeles:20250124T130000
DTEND;TZID=America/Los_Angeles:20250124T150000
DTSTAMP:20260422T024732
CREATED:20250117T215244Z
LAST-MODIFIED:20250117T215244Z
UID:4117-1737723600-1737730800@www.lfcs.ca
SUMMARY:SR FOOD BANK DAY 1P-3P
DESCRIPTION:
URL:http://www.lfcs.ca/event/sr-food-bank-day-1p-3p-4/
LOCATION:Community Cares Building\, 76-5th Avenue\, Lillooet BC\, BC\, V0K1V0\, Canada
END:VEVENT
BEGIN:VEVENT
DTSTART;TZID=America/Los_Angeles:20250124T100000
DTEND;TZID=America/Los_Angeles:20250124T150000
DTSTAMP:20260422T024732
CREATED:20250117T214114Z
LAST-MODIFIED:20250117T214114Z
UID:4115-1737712800-1737730800@www.lfcs.ca
SUMMARY:JUNIPER DAY RECOVERY PROGRAM 10A-3P
DESCRIPTION:
URL:http://www.lfcs.ca/event/juniper-day-recovery-program-10a-3p-29/
LOCATION:Community Cares Building\, 76-5th Avenue\, Lillooet BC\, BC\, V0K1V0\, Canada
ORGANIZER;CN="Shivanii Devii":MAILTO:recovery@lfcs.ca
END:VEVENT
BEGIN:VEVENT
DTSTART;TZID=America/Los_Angeles:20250123T130000
DTEND;TZID=America/Los_Angeles:20250123T150000
DTSTAMP:20260422T024732
CREATED:20250117T213855Z
LAST-MODIFIED:20250117T213855Z
UID:4113-1737637200-1737644400@www.lfcs.ca
SUMMARY:LFCS FOOD BANK 1P-3P
DESCRIPTION:
URL:http://www.lfcs.ca/event/lfcs-food-bank-1p-3p/
LOCATION:Activity Centre\, 737 Main Street\, Lillooet\, BC\, V0K1V0\, Canada
END:VEVENT
BEGIN:VEVENT
DTSTART;TZID=America/Los_Angeles:20250123T100000
DTEND;TZID=America/Los_Angeles:20250123T150000
DTSTAMP:20260422T024732
CREATED:20250117T212912Z
LAST-MODIFIED:20250117T212912Z
UID:4109-1737626400-1737644400@www.lfcs.ca
SUMMARY:JUNIPER DAY RECOVERY PROGRAM 10A-3P
DESCRIPTION:
URL:http://www.lfcs.ca/event/juniper-day-recovery-program-10a-3p-28/
LOCATION:Community Cares Building\, 76-5th Avenue\, Lillooet BC\, BC\, V0K1V0\, Canada
END:VEVENT
BEGIN:VEVENT
DTSTART;TZID=America/Los_Angeles:20250123T100000
DTEND;TZID=America/Los_Angeles:20250123T120000
DTSTAMP:20260422T024732
CREATED:20250117T213549Z
LAST-MODIFIED:20250117T213549Z
UID:4111-1737626400-1737633600@www.lfcs.ca
SUMMARY:DRUMMING IN THE PARK 10A-12P
DESCRIPTION:
URL:http://www.lfcs.ca/event/drumming-in-the-park-10a-12p/
LOCATION:Dowton Park\, Park is situated next to the Lillooet Museum at 780 Main Street.\, BC\, V0K 1V0\, Canada
ORGANIZER;CN="Everett Tom":MAILTO:shelter@lfcs.ca
END:VEVENT
BEGIN:VEVENT
DTSTART;TZID=America/Los_Angeles:20250122T180000
DTEND;TZID=America/Los_Angeles:20250122T200000
DTSTAMP:20260422T024732
CREATED:20250116T221726Z
LAST-MODIFIED:20250116T222037Z
UID:4098-1737568800-1737576000@www.lfcs.ca
SUMMARY:MEN'S HEALING & TALKING CIRCLE WITH RILEY ALECK
DESCRIPTION:
URL:http://www.lfcs.ca/event/mens-healing-talking-circle-with-riley-aleck/
LOCATION:Community Cares Building\, 76-5th Avenue\, Lillooet BC\, BC\, V0K1V0\, Canada
ORGANIZER;CN="RILEY ALECK":MAILTO:wellness@lfcs.ca
END:VEVENT
BEGIN:VEVENT
DTSTART;TZID=America/Los_Angeles:20250122T170000
DTEND;TZID=America/Los_Angeles:20250122T200000
DTSTAMP:20260422T024732
CREATED:20250116T235032Z
LAST-MODIFIED:20250117T000012Z
UID:4104-1737565200-1737576000@www.lfcs.ca
SUMMARY:WOMEN'S CULTURAL NIGHT 5P-8P
DESCRIPTION:WITH GLORIA JOSEPH \nCALL 250-256-4146 \nWEDNESDAY EVENINGS 5P-8P \nAT 737 MAIN LILLOOET ACTIVITY CENTRE \nLIGHT MEAL \nWOMEN ONLY  CULTURAL ARTS AND CRAFTS \n 
URL:http://www.lfcs.ca/event/womens-cultural-night-5p-8p/
LOCATION:Activity Centre\, 737 Main Street\, Lillooet\, BC\, V0K1V0\, Canada
END:VEVENT
BEGIN:VEVENT
DTSTART;TZID=America/Los_Angeles:20250122T170000
DTEND;TZID=America/Los_Angeles:20250122T200000
DTSTAMP:20260422T024732
CREATED:20250116T233411Z
LAST-MODIFIED:20250116T233411Z
UID:4100-1737565200-1737576000@www.lfcs.ca
SUMMARY:Language Session Wednesday's 5p-8p
DESCRIPTION:
URL:http://www.lfcs.ca/event/language-session-wednesdays-5p-8p/
LOCATION:Activity Centre\, 737 Main Street\, Lillooet\, BC\, V0K1V0\, Canada
END:VEVENT
BEGIN:VEVENT
DTSTART;TZID=America/Los_Angeles:20250122T120000
DTEND;TZID=America/Los_Angeles:20250122T130000
DTSTAMP:20260422T024732
CREATED:20250116T220927Z
LAST-MODIFIED:20250116T220927Z
UID:4096-1737547200-1737550800@www.lfcs.ca
SUMMARY:LFCS FOOD BANK LUNCH WEDNESDAY'S 12P-1P
DESCRIPTION:
URL:http://www.lfcs.ca/event/lfcs-food-bank-lunch-wednesdays-12p-1p-5/
LOCATION:Activity Centre\, 737 Main Street\, Lillooet\, BC\, V0K1V0\, Canada
ORGANIZER;CN="Kim Colliss":MAILTO:foodbank@lfcs.ca
END:VEVENT
END:VCALENDAR