BEGIN:VCALENDAR
VERSION:2.0
PRODID:-//Lillooet Friendship Centre Society - ECPv6.10.1.1//NONSGML v1.0//EN
CALSCALE:GREGORIAN
METHOD:PUBLISH
X-WR-CALNAME:Lillooet Friendship Centre Society
X-ORIGINAL-URL:http://www.lfcs.ca
X-WR-CALDESC:Events for Lillooet Friendship Centre Society
REFRESH-INTERVAL;VALUE=DURATION:PT1H
X-Robots-Tag:noindex
X-PUBLISHED-TTL:PT1H
BEGIN:VTIMEZONE
TZID:America/Los_Angeles
BEGIN:DAYLIGHT
TZOFFSETFROM:-0800
TZOFFSETTO:-0700
TZNAME:PDT
DTSTART:20250309T100000
END:DAYLIGHT
BEGIN:STANDARD
TZOFFSETFROM:-0700
TZOFFSETTO:-0800
TZNAME:PST
DTSTART:20251102T090000
END:STANDARD
END:VTIMEZONE
BEGIN:VEVENT
DTSTART;TZID=America/Los_Angeles:20250220T130000
DTEND;TZID=America/Los_Angeles:20250220T150000
DTSTAMP:20260421T190327
CREATED:20250210T182748Z
LAST-MODIFIED:20250210T184759Z
UID:4257-1740056400-1740063600@www.lfcs.ca
SUMMARY:LFC FOOD BANK DAY 1P-3P EXCEPT HOLIDAYS
DESCRIPTION:
URL:http://www.lfcs.ca/event/lfc-food-bank-day-1p-3p-except-holidays/
LOCATION:Community Cares Building\, 76-5th Avenue\, Lillooet BC\, BC\, V0K1V0\, Canada
ORGANIZER;CN="Kim Colliss":MAILTO:foodbank@lfcs.ca
END:VEVENT
BEGIN:VEVENT
DTSTART;TZID=America/Los_Angeles:20250220T100000
DTEND;TZID=America/Los_Angeles:20250220T150000
DTSTAMP:20260421T190327
CREATED:20250210T180946Z
LAST-MODIFIED:20250210T180946Z
UID:4253-1740045600-1740063600@www.lfcs.ca
SUMMARY:Juniper Day Recovery Program 10a-3p M-F except Holidays
DESCRIPTION:
URL:http://www.lfcs.ca/event/juniper-day-recovery-program-10a-3p-m-f-except-holidays-9/
LOCATION:Community Cares Building\, 76-5th Avenue\, Lillooet BC\, BC\, V0K1V0\, Canada
END:VEVENT
BEGIN:VEVENT
DTSTART;TZID=America/Los_Angeles:20250220T100000
DTEND;TZID=America/Los_Angeles:20250220T120000
DTSTAMP:20260421T190327
CREATED:20250210T181925Z
LAST-MODIFIED:20250210T182104Z
UID:4255-1740045600-1740052800@www.lfcs.ca
SUMMARY:Drumming In The Park
DESCRIPTION:
URL:http://www.lfcs.ca/event/drumming-in-the-park-15/
LOCATION:Dowton Park\, Park is situated next to the Lillooet Museum at 780 Main Street.\, BC\, V0K 1V0\, Canada
ORGANIZER;CN="Everett Tom":MAILTO:shelter@lfcs.ca
END:VEVENT
BEGIN:VEVENT
DTSTART;TZID=America/Los_Angeles:20250219T180000
DTEND;TZID=America/Los_Angeles:20250219T200000
DTSTAMP:20260421T190327
CREATED:20250210T175537Z
LAST-MODIFIED:20250210T175537Z
UID:4248-1739988000-1739995200@www.lfcs.ca
SUMMARY:Men's Healing and Talking Circle
DESCRIPTION:
URL:http://www.lfcs.ca/event/mens-healing-and-talking-circle/
LOCATION:Community Cares Building\, 76-5th Avenue\, Lillooet BC\, BC\, V0K1V0\, Canada
ORGANIZER;CN="RILEY ALECK":MAILTO:wellness@lfcs.ca
END:VEVENT
BEGIN:VEVENT
DTSTART;TZID=America/Los_Angeles:20250219T170000
DTEND;TZID=America/Los_Angeles:20250219T200000
DTSTAMP:20260421T190327
CREATED:20250210T175853Z
LAST-MODIFIED:20250210T180441Z
UID:4250-1739984400-1739995200@www.lfcs.ca
SUMMARY:Women's Culture Night 5p-9m except holidays Wednesdays
DESCRIPTION:Women’s Culture Night with Gloria\nWednesday Evenings \n737 Main St Lillooet\, BC \n5p-9p \nMeal and snacks and drinks provided \nwomen only! \ncall : Gloria Joseph 250-256-4146 for more information
URL:http://www.lfcs.ca/event/womens-culture-night-5p-9m-except-holidays-wednesdays/
LOCATION:Activity Centre\, 737 Main Street\, Lillooet\, BC\, V0K1V0\, Canada
END:VEVENT
BEGIN:VEVENT
DTSTART;TZID=America/Los_Angeles:20250219T170000
DTEND;TZID=America/Los_Angeles:20250219T200000
DTSTAMP:20260421T190327
CREATED:20250210T174950Z
LAST-MODIFIED:20250210T174950Z
UID:4246-1739984400-1739995200@www.lfcs.ca
SUMMARY:LANGUAGE SESSION WITH LENA Every Wednesday except holidays
DESCRIPTION:
URL:http://www.lfcs.ca/event/language-session-with-lena-every-wednesday-except-holidays/
LOCATION:Activity Centre\, 737 Main Street\, Lillooet\, BC\, V0K1V0\, Canada
END:VEVENT
BEGIN:VEVENT
DTSTART;TZID=America/Los_Angeles:20250219T120000
DTEND;TZID=America/Los_Angeles:20250219T130000
DTSTAMP:20260421T190327
CREATED:20250208T002424Z
LAST-MODIFIED:20250208T002424Z
UID:4243-1739966400-1739970000@www.lfcs.ca
SUMMARY:LFC FOOD BANK LUNCH 12P-1P WEDNESDAYS (EXCEPT HOLIDAYS)
DESCRIPTION:
URL:http://www.lfcs.ca/event/lfc-food-bank-lunch-12p-1p-wednesdays-except-holidays/
LOCATION:Activity Centre\, 737 Main Street\, Lillooet\, BC\, V0K1V0\, Canada
ORGANIZER;CN="Kim Colliss":MAILTO:foodbank@lfcs.ca
END:VEVENT
BEGIN:VEVENT
DTSTART;TZID=America/Los_Angeles:20250219T100000
DTEND;TZID=America/Los_Angeles:20250219T150000
DTSTAMP:20260421T190327
CREATED:20250208T002151Z
LAST-MODIFIED:20250208T002151Z
UID:4241-1739959200-1739977200@www.lfcs.ca
SUMMARY:JUNIPER DAY RECOVERY PROGRAM 10A-3P EXCEPT HOLIDAYS
DESCRIPTION:
URL:http://www.lfcs.ca/event/juniper-day-recovery-program-10a-3p-except-holidays/
LOCATION:Community Cares Building\, 76-5th Avenue\, Lillooet BC\, BC\, V0K1V0\, Canada
END:VEVENT
BEGIN:VEVENT
DTSTART;TZID=America/Los_Angeles:20250218T120000
DTEND;TZID=America/Los_Angeles:20250218T130000
DTSTAMP:20260421T190327
CREATED:20250208T001636Z
LAST-MODIFIED:20250208T001636Z
UID:4237-1739880000-1739883600@www.lfcs.ca
SUMMARY:THE BETTER LIVING SOCIETY LUNCH 12P-1P EXCEPT HOLIDAYS
DESCRIPTION:
URL:http://www.lfcs.ca/event/the-better-living-society-lunch-12p-1p-except-holidays/
LOCATION:Activity Centre\, 737 Main Street\, Lillooet\, BC\, V0K1V0\, Canada
ORGANIZER;CN="Elaine Roque":MAILTO:elainejroque@gmail.com
END:VEVENT
BEGIN:VEVENT
DTSTART;TZID=America/Los_Angeles:20250218T100000
DTEND;TZID=America/Los_Angeles:20250218T150000
DTSTAMP:20260421T190327
CREATED:20250208T001001Z
LAST-MODIFIED:20250208T001001Z
UID:4235-1739872800-1739890800@www.lfcs.ca
SUMMARY:JUNIPER DAY RECOVERY PROGRAM 10A-3P M-F EXCEPT HOLIDAYS
DESCRIPTION:
URL:http://www.lfcs.ca/event/juniper-day-recovery-program-10a-3p-m-f-except-holidays-8/
LOCATION:Community Cares Building\, 76-5th Avenue\, Lillooet BC\, BC\, V0K1V0\, Canada
END:VEVENT
BEGIN:VEVENT
DTSTART;VALUE=DATE:20250217
DTEND;VALUE=DATE:20250218
DTSTAMP:20260421T190327
CREATED:20250207T234721Z
LAST-MODIFIED:20250207T234721Z
UID:4231-1739750400-1739836799@www.lfcs.ca
SUMMARY:
DESCRIPTION:British Columbia’s next stat holiday is Family Day on February 17 statutory holiday\nBoth Offices such as Activity Centre (LILLOOET FRIENDSHIP CENTRE SOCIETY) & COMMUNITY CARE BUILDING (EXCEPT SHELTERS) WILL BE CLOSED… ON THIS DAY ALL DAY.. \nThe office will re-open on the 18th of February . \nThanks
URL:http://www.lfcs.ca/event/4231/
LOCATION:LFC HQ  & CCB\, 76-5TH AVE \, & 737 Main St\, Lillooet\, BC\, Canada
ORGANIZER;CN="Candace Louie":MAILTO:frontdesk @ lfcs.ca
END:VEVENT
BEGIN:VEVENT
DTSTART;TZID=America/Los_Angeles:20250214T130000
DTEND;TZID=America/Los_Angeles:20250214T150000
DTSTAMP:20260421T190327
CREATED:20250207T233947Z
LAST-MODIFIED:20250207T233947Z
UID:4229-1739538000-1739545200@www.lfcs.ca
SUMMARY:LFC FOOD BANK SR DAY FRIDAY'S EXCEPT HOLIDAYS
DESCRIPTION:
URL:http://www.lfcs.ca/event/lfc-food-bank-sr-day-fridays-except-holidays/
LOCATION:Activity Centre\, 737 Main Street\, Lillooet\, BC\, V0K1V0\, Canada
ORGANIZER;CN="Kim Colliss":MAILTO:foodbank@lfcs.ca
END:VEVENT
BEGIN:VEVENT
DTSTART;TZID=America/Los_Angeles:20250214T110000
DTEND;TZID=America/Los_Angeles:20250214T180000
DTSTAMP:20260421T190327
CREATED:20250123T214815Z
LAST-MODIFIED:20250207T231947Z
UID:4158-1739530800-1739556000@www.lfcs.ca
SUMMARY:Valentines Day Bake Sale Feb 14\,2025
DESCRIPTION:Drawn by : Lorraine Jackman\n \nLillooet Friendship Centre  \nvalentines Day Bake Sale \n  \nIn Front of Buy Low Foods \n11:00 am -6:00pm (or until sold out) \nFundraiser is for Indigenous Day Event \nCall: 250-256-4146 \nor email: frontdesk@lfcs.ca \n 
URL:http://www.lfcs.ca/event/valentines-day-bake-sale-feb-142025/
LOCATION:Buy Low Foods\, 155 Main St\, Lillooet\, BC\, V0K 1V0\, Canada
END:VEVENT
BEGIN:VEVENT
DTSTART;TZID=America/Los_Angeles:20250213T130000
DTEND;TZID=America/Los_Angeles:20250213T150000
DTSTAMP:20260421T190327
CREATED:20250207T230221Z
LAST-MODIFIED:20250207T230221Z
UID:4220-1739451600-1739458800@www.lfcs.ca
SUMMARY:LFC FOOD BANK 1P-3P THURSDAYS EXCEPT HOLIDAYS
DESCRIPTION:
URL:http://www.lfcs.ca/event/lfc-food-bank-1p-3p-thursdays-except-holidays/
LOCATION:Community Cares Building\, 76-5th Avenue\, Lillooet BC\, BC\, V0K1V0\, Canada
ORGANIZER;CN="Kim Colliss":MAILTO:foodbank@lfcs.ca
END:VEVENT
BEGIN:VEVENT
DTSTART;TZID=America/Los_Angeles:20250213T100000
DTEND;TZID=America/Los_Angeles:20250213T150000
DTSTAMP:20260421T190327
CREATED:20250207T222922Z
LAST-MODIFIED:20250207T225944Z
UID:4218-1739440800-1739458800@www.lfcs.ca
SUMMARY:Juniper Day Recovery Program  10a-3p M- F except holidays
DESCRIPTION:
URL:http://www.lfcs.ca/event/juniper-day-recovery-program-10a-3p-m-f-except-holidays-7/
LOCATION:Community Cares Building\, 76-5th Avenue\, Lillooet BC\, BC\, V0K1V0\, Canada
ORGANIZER;CN="Shivanii Devii":MAILTO:recovery@lfcs.ca
END:VEVENT
BEGIN:VEVENT
DTSTART;TZID=America/Los_Angeles:20250213T100000
DTEND;TZID=America/Los_Angeles:20250213T120000
DTSTAMP:20260421T190327
CREATED:20250207T230833Z
LAST-MODIFIED:20250207T230833Z
UID:4222-1739440800-1739448000@www.lfcs.ca
SUMMARY:Drumming in the Park 10a-12p Thursdays except holidays
DESCRIPTION:
URL:http://www.lfcs.ca/event/drumming-in-the-park-10a-12p-thursdays-except-holidays/
LOCATION:Dowton Park\, Park is situated next to the Lillooet Museum at 780 Main Street.\, BC\, V0K 1V0\, Canada
ORGANIZER;CN="Everett Tom":MAILTO:shelter@lfcs.ca
END:VEVENT
BEGIN:VEVENT
DTSTART;TZID=America/Los_Angeles:20250212T180000
DTEND;TZID=America/Los_Angeles:20250212T200000
DTSTAMP:20260421T190327
CREATED:20250207T222535Z
LAST-MODIFIED:20250207T222535Z
UID:4215-1739383200-1739390400@www.lfcs.ca
SUMMARY:MEN'S HEALING & TALKING CIRCLE WEDNESDAY 6P-8P EXCEPT STAT HOLIDAYS
DESCRIPTION:
URL:http://www.lfcs.ca/event/mens-healing-talking-circle-wednesday-6p-8p-except-stat-holidays/
LOCATION:Community Cares Building\, 76-5th Avenue\, Lillooet BC\, BC\, V0K1V0\, Canada
ORGANIZER;CN="RILEY ALECK":MAILTO:wellness@lfcs.ca
END:VEVENT
BEGIN:VEVENT
DTSTART;TZID=America/Los_Angeles:20250212T170000
DTEND;TZID=America/Los_Angeles:20250212T210000
DTSTAMP:20260421T190327
CREATED:20250207T002643Z
LAST-MODIFIED:20250207T002643Z
UID:4213-1739379600-1739394000@www.lfcs.ca
SUMMARY:WOMENS CULTURE NIGHT WEDNESDAYS 5P-9P
DESCRIPTION:WOMEN’S CULTURE NIGHT \nWITH GLORIA JOSEPH \nCALL 250-256-4146 FOR MORE INFORMATION \nWOMEN ONLY
URL:http://www.lfcs.ca/event/womens-culture-night-wednesdays-5p-9p/
LOCATION:Activity Centre\, 737 Main Street\, Lillooet\, BC\, V0K1V0\, Canada
END:VEVENT
BEGIN:VEVENT
DTSTART;TZID=America/Los_Angeles:20250212T170000
DTEND;TZID=America/Los_Angeles:20250212T200000
DTSTAMP:20260421T190327
CREATED:20250207T002419Z
LAST-MODIFIED:20250207T002430Z
UID:4211-1739379600-1739390400@www.lfcs.ca
SUMMARY:LANGUAGE SESSION WITH LENA WEDNESDAYS 5P-8P EXCEPT HOLIDAYS
DESCRIPTION:
URL:http://www.lfcs.ca/event/language-session-with-lena-wednesdays-5p-8p-except-holidays/
LOCATION:Activity Centre\, 737 Main Street\, Lillooet\, BC\, V0K1V0\, Canada
END:VEVENT
BEGIN:VEVENT
DTSTART;TZID=America/Los_Angeles:20250212T120000
DTEND;TZID=America/Los_Angeles:20250212T130000
DTSTAMP:20260421T190327
CREATED:20250207T002055Z
LAST-MODIFIED:20250207T002055Z
UID:4209-1739361600-1739365200@www.lfcs.ca
SUMMARY:LFC FOOD BANK LUNCH 12P-1P (EXCEPT HOLIDAYS)
DESCRIPTION:
URL:http://www.lfcs.ca/event/lfc-food-bank-lunch-12p-1p-except-holidays/
LOCATION:Activity Centre\, 737 Main Street\, Lillooet\, BC\, V0K1V0\, Canada
ORGANIZER;CN="Kim Colliss":MAILTO:foodbank@lfcs.ca
END:VEVENT
BEGIN:VEVENT
DTSTART;TZID=America/Los_Angeles:20250212T100000
DTEND;TZID=America/Los_Angeles:20250212T150000
DTSTAMP:20260421T190327
CREATED:20250207T001712Z
LAST-MODIFIED:20250207T001807Z
UID:4207-1739354400-1739372400@www.lfcs.ca
SUMMARY:The Juniper Day Recovery Program 10a-3p M-f Except Holidays
DESCRIPTION:
URL:http://www.lfcs.ca/event/the-juniper-day-recovery-program-10a-3p-m-f-except-holidays-7/
LOCATION:Community Cares Building\, 76-5th Avenue\, Lillooet BC\, BC\, V0K1V0\, Canada
ORGANIZER;CN="Shivanii Devii":MAILTO:recovery@lfcs.ca
END:VEVENT
BEGIN:VEVENT
DTSTART;TZID=America/Los_Angeles:20250211T160000
DTEND;TZID=America/Los_Angeles:20250211T190000
DTSTAMP:20260421T190327
CREATED:20250206T233008Z
LAST-MODIFIED:20250206T234134Z
UID:4193-1739289600-1739300400@www.lfcs.ca
SUMMARY:THE LINK PROGRAM TUESDAYS 4PM-7PM
DESCRIPTION:
URL:http://www.lfcs.ca/event/the-link-program-tuesdays-4pm-7pm/
LOCATION:Room 203 @ Rec Centre Lillooet\, 930 Main St\, Lillooet\, BC\, V0K 1V0\, Canada
END:VEVENT
BEGIN:VEVENT
DTSTART;TZID=America/Los_Angeles:20250211T120000
DTEND;TZID=America/Los_Angeles:20250211T130000
DTSTAMP:20260421T190327
CREATED:20250206T192142Z
LAST-MODIFIED:20250206T192142Z
UID:4170-1739275200-1739278800@www.lfcs.ca
SUMMARY:The Better Living Society LUNCH 12p-1p
DESCRIPTION:
URL:http://www.lfcs.ca/event/the-better-living-society-lunch-12p-1p-2/
LOCATION:Activity Centre\, 737 Main Street\, Lillooet\, BC\, V0K1V0\, Canada
ORGANIZER;CN="Elaine Roque":MAILTO:elainejroque@gmail.com
END:VEVENT
BEGIN:VEVENT
DTSTART;TZID=America/Los_Angeles:20250211T100000
DTEND;TZID=America/Los_Angeles:20250211T150000
DTSTAMP:20260421T190327
CREATED:20250206T220828Z
LAST-MODIFIED:20250206T220828Z
UID:4185-1739268000-1739286000@www.lfcs.ca
SUMMARY:The Juniper Day Recovery Program 10a-3p M-F Except Holidays
DESCRIPTION:
URL:http://www.lfcs.ca/event/the-juniper-day-recovery-program-10a-3p-m-f-except-holidays-4/
LOCATION:Community Cares Building\, 76-5th Avenue\, Lillooet BC\, BC\, V0K1V0\, Canada
END:VEVENT
BEGIN:VEVENT
DTSTART;TZID=America/Los_Angeles:20250210T130000
DTEND;TZID=America/Los_Angeles:20250210T150000
DTSTAMP:20260421T190327
CREATED:20250206T191105Z
LAST-MODIFIED:20250206T191105Z
UID:4166-1739192400-1739199600@www.lfcs.ca
SUMMARY:LILLOOET FRIENDSHIP CENTRE FOOD BANK LUNCH 1PM-3PM EXCEPT STAT HOLIDAYS
DESCRIPTION:
URL:http://www.lfcs.ca/event/lillooet-friendship-centre-food-bank-lunch-1pm-3pm-except-stat-holidays/
LOCATION:Community Cares Building\, 76-5th Avenue\, Lillooet BC\, BC\, V0K1V0\, Canada
ORGANIZER;CN="Kim Colliss":MAILTO:foodbank@lfcs.ca
END:VEVENT
BEGIN:VEVENT
DTSTART;TZID=America/Los_Angeles:20250210T100000
DTEND;TZID=America/Los_Angeles:20250210T150000
DTSTAMP:20260421T190327
CREATED:20250206T220101Z
LAST-MODIFIED:20250207T225738Z
UID:4183-1739181600-1739199600@www.lfcs.ca
SUMMARY:Juniper Day Recovery Program m-f except holidays 10a-3p
DESCRIPTION:
URL:http://www.lfcs.ca/event/juniper-day-recovery-program-m-f-except-holidays-10a-3p/
LOCATION:Community Cares Building\, 76-5th Avenue\, Lillooet BC\, BC\, V0K1V0\, Canada
ORGANIZER;CN="Shivanii Devii":MAILTO:recovery@lfcs.ca
END:VEVENT
BEGIN:VEVENT
DTSTART;TZID=America/Los_Angeles:20250207T130000
DTEND;TZID=America/Los_Angeles:20250207T150000
DTSTAMP:20260421T190327
CREATED:20250206T194111Z
LAST-MODIFIED:20250206T194111Z
UID:4178-1738933200-1738940400@www.lfcs.ca
SUMMARY:LFC Sr Food Bank 1p-3p Fridays
DESCRIPTION:
URL:http://www.lfcs.ca/event/lfc-sr-food-bank-1p-3p-fridays/
LOCATION:Community Cares Building\, 76-5th Avenue\, Lillooet BC\, BC\, V0K1V0\, Canada
ORGANIZER;CN="Kim Colliss":MAILTO:foodbank@lfcs.ca
END:VEVENT
BEGIN:VEVENT
DTSTART;TZID=America/Los_Angeles:20250207T100000
DTEND;TZID=America/Los_Angeles:20250207T150000
DTSTAMP:20260421T190327
CREATED:20250206T193204Z
LAST-MODIFIED:20250206T193204Z
UID:4174-1738922400-1738940400@www.lfcs.ca
SUMMARY:The Juniper Day Recovery Program 10a-3p M-F except Stat Holidays
DESCRIPTION:
URL:http://www.lfcs.ca/event/the-juniper-day-recovery-program-10a-3p-m-f-except-stat-holidays/
LOCATION:Community Cares Building\, 76-5th Avenue\, Lillooet BC\, BC\, V0K1V0\, Canada
ORGANIZER;CN="Shivanii Devii":MAILTO:recovery@lfcs.ca
END:VEVENT
BEGIN:VEVENT
DTSTART;TZID=America/Los_Angeles:20250206T130000
DTEND;TZID=America/Los_Angeles:20250206T150000
DTSTAMP:20260421T190327
CREATED:20250206T191719Z
LAST-MODIFIED:20250206T191719Z
UID:4168-1738846800-1738854000@www.lfcs.ca
SUMMARY:Lillooet Friendship Centre Food Bank Lunch 1p-3p except Stat Holidays
DESCRIPTION:
URL:http://www.lfcs.ca/event/lillooet-friendship-centre-food-bank-lunch-1p-3p-except-stat-holidays/
LOCATION:Community Cares Building\, 76-5th Avenue\, Lillooet BC\, BC\, V0K1V0\, Canada
END:VEVENT
BEGIN:VEVENT
DTSTART;TZID=America/Los_Angeles:20250206T100000
DTEND;TZID=America/Los_Angeles:20250206T150000
DTSTAMP:20260421T190327
CREATED:20250206T185805Z
LAST-MODIFIED:20250206T185805Z
UID:4164-1738836000-1738854000@www.lfcs.ca
SUMMARY:Juniper Day Recovery Program M-F except Stat Holidays and otherwise posted
DESCRIPTION:
URL:http://www.lfcs.ca/event/juniper-day-recovery-program-m-f-except-stat-holidays-and-otherwise-posted/
LOCATION:Community Cares Building\, 76-5th Avenue\, Lillooet BC\, BC\, V0K1V0\, Canada
END:VEVENT
END:VCALENDAR