BEGIN:VCALENDAR
VERSION:2.0
PRODID:-//Lillooet Friendship Centre Society - ECPv6.10.1.1//NONSGML v1.0//EN
CALSCALE:GREGORIAN
METHOD:PUBLISH
X-ORIGINAL-URL:http://www.lfcs.ca
X-WR-CALDESC:Events for Lillooet Friendship Centre Society
REFRESH-INTERVAL;VALUE=DURATION:PT1H
X-Robots-Tag:noindex
X-PUBLISHED-TTL:PT1H
BEGIN:VTIMEZONE
TZID:America/Los_Angeles
BEGIN:DAYLIGHT
TZOFFSETFROM:-0800
TZOFFSETTO:-0700
TZNAME:PDT
DTSTART:20240310T100000
END:DAYLIGHT
BEGIN:STANDARD
TZOFFSETFROM:-0700
TZOFFSETTO:-0800
TZNAME:PST
DTSTART:20241103T090000
END:STANDARD
END:VTIMEZONE
BEGIN:VEVENT
DTSTART;TZID=America/Los_Angeles:20240418T100000
DTEND;TZID=America/Los_Angeles:20240418T120000
DTSTAMP:20260420T222614
CREATED:20240328T220526Z
LAST-MODIFIED:20240328T220526Z
UID:3341-1713434400-1713441600@www.lfcs.ca
SUMMARY:DRUMMING IN THE PARK 10A12P
DESCRIPTION:
URL:http://www.lfcs.ca/event/drumming-in-the-park-10a12p/
LOCATION:Dowton Park\, Park is situated next to the Lillooet Museum at 780 Main Street.\, BC\, V0K 1V0\, Canada
ORGANIZER;CN="Everett Tom":MAILTO:shelter@lfcs.ca
END:VEVENT
BEGIN:VEVENT
DTSTART;TZID=America/Los_Angeles:20240418T100000
DTEND;TZID=America/Los_Angeles:20240418T150000
DTSTAMP:20260420T222614
CREATED:20240328T211705Z
LAST-MODIFIED:20240328T211705Z
UID:3301-1713434400-1713452400@www.lfcs.ca
SUMMARY:JUNIPER DAY RECOVERY PROGRAM 10A-3P
DESCRIPTION:
URL:http://www.lfcs.ca/event/juniper-day-recovery-program-10a-3p-5/
LOCATION:Community Cares Building\, 76-5th Avenue\, Lillooet BC\, BC\, V0K1V0\, Canada
ORGANIZER;CN="Shivanii Devii":MAILTO:recovery@lfcs.ca
END:VEVENT
BEGIN:VEVENT
DTSTART;TZID=America/Los_Angeles:20240418T130000
DTEND;TZID=America/Los_Angeles:20240418T150000
DTSTAMP:20260420T222614
CREATED:20240328T212436Z
LAST-MODIFIED:20240328T212436Z
UID:3303-1713445200-1713452400@www.lfcs.ca
SUMMARY:FOOD BANK DAY 1P-3P
DESCRIPTION:
URL:http://www.lfcs.ca/event/food-bank-day-1p-3p-2/
LOCATION:Community Cares Building\, 76-5th Avenue\, Lillooet BC\, BC\, V0K1V0\, Canada
ORGANIZER;CN="Kim Colliss":MAILTO:foodbank@lfcs.ca
END:VEVENT
BEGIN:VEVENT
DTSTART;TZID=America/Los_Angeles:20240419T100000
DTEND;TZID=America/Los_Angeles:20240419T150000
DTSTAMP:20260420T222614
CREATED:20240328T212631Z
LAST-MODIFIED:20240328T212631Z
UID:3305-1713520800-1713538800@www.lfcs.ca
SUMMARY:JUNIPER DAY RECOVERY PROGRAM 10A-3P
DESCRIPTION:
URL:http://www.lfcs.ca/event/juniper-day-recovery-program-10a-3p-6/
LOCATION:Community Cares Building\, 76-5th Avenue\, Lillooet BC\, BC\, V0K1V0\, Canada
END:VEVENT
BEGIN:VEVENT
DTSTART;TZID=America/Los_Angeles:20240419T130000
DTEND;TZID=America/Los_Angeles:20240419T150000
DTSTAMP:20260420T222614
CREATED:20240328T212755Z
LAST-MODIFIED:20240328T212755Z
UID:3307-1713531600-1713538800@www.lfcs.ca
SUMMARY:SR ONLY FOOD BANK DAY 1P-3P
DESCRIPTION:
URL:http://www.lfcs.ca/event/sr-only-food-bank-day-1p-3p/
LOCATION:Community Cares Building\, 76-5th Avenue\, Lillooet BC\, BC\, V0K1V0\, Canada
ORGANIZER;CN="Kim Colliss":MAILTO:foodbank@lfcs.ca
END:VEVENT
BEGIN:VEVENT
DTSTART;TZID=America/Los_Angeles:20240422T100000
DTEND;TZID=America/Los_Angeles:20240422T150000
DTSTAMP:20260420T222614
CREATED:20240328T213217Z
LAST-MODIFIED:20240328T213217Z
UID:3311-1713780000-1713798000@www.lfcs.ca
SUMMARY:JUNIPER DAY RECOVERY PROGRAM
DESCRIPTION:
URL:http://www.lfcs.ca/event/juniper-day-recovery-program-57/
LOCATION:Community Cares Building\, 76-5th Avenue\, Lillooet BC\, BC\, V0K1V0\, Canada
END:VEVENT
BEGIN:VEVENT
DTSTART;TZID=America/Los_Angeles:20240422T130000
DTEND;TZID=America/Los_Angeles:20240422T150000
DTSTAMP:20260420T222614
CREATED:20240328T213014Z
LAST-MODIFIED:20240328T213014Z
UID:3309-1713790800-1713798000@www.lfcs.ca
SUMMARY:FOOD BANK DAY 1P-3P
DESCRIPTION:
URL:http://www.lfcs.ca/event/food-bank-day-1p-3p-3/
LOCATION:Community Cares Building\, 76-5th Avenue\, Lillooet BC\, BC\, V0K1V0\, Canada
ORGANIZER;CN="Kim Colliss":MAILTO:foodbank@lfcs.ca
END:VEVENT
BEGIN:VEVENT
DTSTART;TZID=America/Los_Angeles:20240423T100000
DTEND;TZID=America/Los_Angeles:20240423T150000
DTSTAMP:20260420T222614
CREATED:20240328T214040Z
LAST-MODIFIED:20240328T214040Z
UID:3315-1713866400-1713884400@www.lfcs.ca
SUMMARY:JUNIPER DAY RECOVERY PROGRAM 10A-3P
DESCRIPTION:
URL:http://www.lfcs.ca/event/juniper-day-recovery-program-10a-3p-7/
LOCATION:Community Cares Building\, 76-5th Avenue\, Lillooet BC\, BC\, V0K1V0\, Canada
END:VEVENT
BEGIN:VEVENT
DTSTART;TZID=America/Los_Angeles:20240423T120000
DTEND;TZID=America/Los_Angeles:20240423T130000
DTSTAMP:20260420T222614
CREATED:20240328T213424Z
LAST-MODIFIED:20240328T213424Z
UID:3313-1713873600-1713877200@www.lfcs.ca
SUMMARY:BETTER LIVING DRIVE THRU LUNCH
DESCRIPTION:http://www.lfcs.ca/wp-content/uploads/2024/02/better-living-drive-thru-lunch-tuesdays.mp4
URL:http://www.lfcs.ca/event/better-living-drive-thru-lunch-2/
LOCATION:Community Cares Building\, 76-5th Avenue\, Lillooet BC\, BC\, V0K1V0\, Canada
ORGANIZER;CN="Elaine Roque":MAILTO:elainejroque@gmail.com
END:VEVENT
BEGIN:VEVENT
DTSTART;TZID=America/Los_Angeles:20240424T100000
DTEND;TZID=America/Los_Angeles:20240424T150000
DTSTAMP:20260420T222614
CREATED:20240328T214403Z
LAST-MODIFIED:20240328T214403Z
UID:3319-1713952800-1713970800@www.lfcs.ca
SUMMARY:JUNIPER DAY RECOVERY PROGRAM 10A-3P
DESCRIPTION:
URL:http://www.lfcs.ca/event/juniper-day-recovery-program-10a-3p-8/
LOCATION:Community Cares Building\, 76-5th Avenue\, Lillooet BC\, BC\, V0K1V0\, Canada
END:VEVENT
BEGIN:VEVENT
DTSTART;TZID=America/Los_Angeles:20240424T120000
DTEND;TZID=America/Los_Angeles:20240424T130000
DTSTAMP:20260420T222614
CREATED:20240328T214213Z
LAST-MODIFIED:20240328T214213Z
UID:3317-1713960000-1713963600@www.lfcs.ca
SUMMARY:FOOD BANK DRIVE THRU LUNCH
DESCRIPTION:
URL:http://www.lfcs.ca/event/food-bank-drive-thru-lunch-2/
LOCATION:Community Cares Building\, 76-5th Avenue\, Lillooet BC\, BC\, V0K1V0\, Canada
END:VEVENT
BEGIN:VEVENT
DTSTART;TZID=America/Los_Angeles:20240424T180000
DTEND;TZID=America/Los_Angeles:20240424T200000
DTSTAMP:20260420T222614
CREATED:20240328T214604Z
LAST-MODIFIED:20240328T214604Z
UID:3321-1713981600-1713988800@www.lfcs.ca
SUMMARY:MEN'S GROUP 6P-8P
DESCRIPTION:
URL:http://www.lfcs.ca/event/mens-group-6p-8p-3/
LOCATION:Community Cares Building\, 76-5th Avenue\, Lillooet BC\, BC\, V0K1V0\, Canada
END:VEVENT
BEGIN:VEVENT
DTSTART;TZID=America/Los_Angeles:20240425T100000
DTEND;TZID=America/Los_Angeles:20240425T120000
DTSTAMP:20260420T222614
CREATED:20240328T215021Z
LAST-MODIFIED:20240328T215021Z
UID:3325-1714039200-1714046400@www.lfcs.ca
SUMMARY:Drumming In The Park
DESCRIPTION:
URL:http://www.lfcs.ca/event/drumming-in-the-park-13/
LOCATION:Dowton Park\, Park is situated next to the Lillooet Museum at 780 Main Street.\, BC\, V0K 1V0\, Canada
ORGANIZER;CN="Everett Tom":MAILTO:shelter@lfcs.ca
END:VEVENT
BEGIN:VEVENT
DTSTART;TZID=America/Los_Angeles:20240425T100000
DTEND;TZID=America/Los_Angeles:20240425T150000
DTSTAMP:20260420T222614
CREATED:20240328T215200Z
LAST-MODIFIED:20240328T215200Z
UID:3327-1714039200-1714057200@www.lfcs.ca
SUMMARY:Juniper Day Recovery Program 10a-3p
DESCRIPTION:
URL:http://www.lfcs.ca/event/juniper-day-recovery-program-10a-3p-9/
LOCATION:Community Cares Building\, 76-5th Avenue\, Lillooet BC\, BC\, V0K1V0\, Canada
END:VEVENT
BEGIN:VEVENT
DTSTART;TZID=America/Los_Angeles:20240425T130000
DTEND;TZID=America/Los_Angeles:20240425T150000
DTSTAMP:20260420T222614
CREATED:20240328T215417Z
LAST-MODIFIED:20240328T215417Z
UID:3329-1714050000-1714057200@www.lfcs.ca
SUMMARY:FOOD BANK DAY 1P-3P
DESCRIPTION:
URL:http://www.lfcs.ca/event/food-bank-day-1p-3p-4/
LOCATION:Community Cares Building\, 76-5th Avenue\, Lillooet BC\, BC\, V0K1V0\, Canada
END:VEVENT
BEGIN:VEVENT
DTSTART;TZID=America/Los_Angeles:20240426T100000
DTEND;TZID=America/Los_Angeles:20240426T150000
DTSTAMP:20260420T222614
CREATED:20240328T215558Z
LAST-MODIFIED:20240328T215558Z
UID:3331-1714125600-1714143600@www.lfcs.ca
SUMMARY:JUNIPER DAY RECOVERY PROGRAM 10A-3P
DESCRIPTION:
URL:http://www.lfcs.ca/event/juniper-day-recovery-program-10a-3p-10/
LOCATION:Community Cares Building\, 76-5th Avenue\, Lillooet BC\, BC\, V0K1V0\, Canada
END:VEVENT
BEGIN:VEVENT
DTSTART;TZID=America/Los_Angeles:20240426T130000
DTEND;TZID=America/Los_Angeles:20240426T150000
DTSTAMP:20260420T222614
CREATED:20240328T215712Z
LAST-MODIFIED:20240328T215712Z
UID:3333-1714136400-1714143600@www.lfcs.ca
SUMMARY:SR ONLY FOOD BANK DAY 1P-3P
DESCRIPTION:
URL:http://www.lfcs.ca/event/sr-only-food-bank-day-1p-3p-2/
LOCATION:Community Cares Building\, 76-5th Avenue\, Lillooet BC\, BC\, V0K1V0\, Canada
ORGANIZER;CN="Kim Colliss":MAILTO:foodbank@lfcs.ca
END:VEVENT
BEGIN:VEVENT
DTSTART;TZID=America/Los_Angeles:20240429T100000
DTEND;TZID=America/Los_Angeles:20240429T150000
DTSTAMP:20260420T222614
CREATED:20240328T220138Z
LAST-MODIFIED:20240328T220138Z
UID:3337-1714384800-1714402800@www.lfcs.ca
SUMMARY:JUNIPER DAY RECOVERY PROGRAM 10A-3P
DESCRIPTION:
URL:http://www.lfcs.ca/event/juniper-day-recovery-program-10a-3p-11/
LOCATION:Community Cares Building\, 76-5th Avenue\, Lillooet BC\, BC\, V0K1V0\, Canada
END:VEVENT
BEGIN:VEVENT
DTSTART;TZID=America/Los_Angeles:20240429T130000
DTEND;TZID=America/Los_Angeles:20240429T150000
DTSTAMP:20260420T222614
CREATED:20240328T215836Z
LAST-MODIFIED:20240328T215836Z
UID:3335-1714395600-1714402800@www.lfcs.ca
SUMMARY:FOOD BANK DAY 1P-3P
DESCRIPTION:
URL:http://www.lfcs.ca/event/food-bank-day-1p-3p-5/
LOCATION:Community Cares Building\, 76-5th Avenue\, Lillooet BC\, BC\, V0K1V0\, Canada
ORGANIZER;CN="Kim Colliss":MAILTO:foodbank@lfcs.ca
END:VEVENT
BEGIN:VEVENT
DTSTART;TZID=America/Los_Angeles:20240430T100000
DTEND;TZID=America/Los_Angeles:20240430T150000
DTSTAMP:20260420T222614
CREATED:20240328T231618Z
LAST-MODIFIED:20240328T231618Z
UID:3344-1714471200-1714489200@www.lfcs.ca
SUMMARY:JUNIPER DAY RECOVERY PROGRAM 10A-3P
DESCRIPTION:
URL:http://www.lfcs.ca/event/juniper-day-recovery-program-10a-3p-12/
LOCATION:Community Cares Building\, 76-5th Avenue\, Lillooet BC\, BC\, V0K1V0\, Canada
ORGANIZER;CN="Shivanii Devii":MAILTO:recovery@lfcs.ca
END:VEVENT
BEGIN:VEVENT
DTSTART;TZID=America/Los_Angeles:20240430T120000
DTEND;TZID=America/Los_Angeles:20240430T130000
DTSTAMP:20260420T222614
CREATED:20240328T231732Z
LAST-MODIFIED:20240328T231732Z
UID:3346-1714478400-1714482000@www.lfcs.ca
SUMMARY:BETTER LIVING DRIVE THRU LUNCH 12P-1P
DESCRIPTION:http://www.lfcs.ca/wp-content/uploads/2024/02/better-living-drive-thru-lunch-tuesdays.mp4
URL:http://www.lfcs.ca/event/better-living-drive-thru-lunch-12p-1p-2/
LOCATION:Community Cares Building\, 76-5th Avenue\, Lillooet BC\, BC\, V0K1V0\, Canada
END:VEVENT
BEGIN:VEVENT
DTSTART;TZID=America/Los_Angeles:20240710T080000
DTEND;TZID=America/Los_Angeles:20240710T170000
DTSTAMP:20260420T222614
CREATED:20240710T173654Z
LAST-MODIFIED:20240710T173654Z
UID:3355-1720598400-1720630800@www.lfcs.ca
SUMMARY:Women diversity & LGBTQIA+ Questionaire
DESCRIPTION:“Welcome! We invite you to participate in a questionnaire on Women’s Diversity and LGBTQIA+ Supports and Inclusion.\n\nPlease call 250-256-4146 for more information
URL:http://www.lfcs.ca/event/women-diversity-lgbtqia-questionaire/
END:VEVENT
BEGIN:VEVENT
DTSTART;TZID=America/Los_Angeles:20240710T120000
DTEND;TZID=America/Los_Angeles:20240710T130000
DTSTAMP:20260420T222614
CREATED:20240710T184554Z
LAST-MODIFIED:20240710T184554Z
UID:3370-1720612800-1720616400@www.lfcs.ca
SUMMARY:LFCS FOOD BANK LUNCH WEDNESDAYS 12P-1P
DESCRIPTION:
URL:http://www.lfcs.ca/event/lfcs-food-bank-lunch-wednesdays-12p-1p/
LOCATION:Activity Centre\, 737 Main Street\, Lillooet\, BC\, V0K1V0\, Canada
END:VEVENT
BEGIN:VEVENT
DTSTART;VALUE=DATE:20240711
DTEND;VALUE=DATE:20240712
DTSTAMP:20260420T222614
CREATED:20240710T174049Z
LAST-MODIFIED:20240710T174556Z
UID:3359-1720656000-1720742399@www.lfcs.ca
SUMMARY:2LGBTQIA+ Questionnaire
DESCRIPTION:“Welcome! We invite you to participate in a questionnaire on Women’s Diversity and LGBTQIA+ Supports and Inclusion.  Fore more information please call 250-256-4146
URL:http://www.lfcs.ca/event/2lgbtqia-questionnaire-2/
LOCATION:Activity Centre\, 737 Main Street\, Lillooet\, BC\, V0K1V0\, Canada
END:VEVENT
BEGIN:VEVENT
DTSTART;TZID=America/Los_Angeles:20240711T100000
DTEND;TZID=America/Los_Angeles:20240711T150000
DTSTAMP:20260420T222614
CREATED:20240711T172425Z
LAST-MODIFIED:20240711T172425Z
UID:3387-1720692000-1720710000@www.lfcs.ca
SUMMARY:The Juniper Room Day Recovery Program
DESCRIPTION:
URL:http://www.lfcs.ca/event/the-juniper-room-day-recovery-program-10/
LOCATION:Community Cares Building\, 76-5th Avenue\, Lillooet BC\, BC\, V0K1V0\, Canada
ORGANIZER;CN="Shivanii Devii":MAILTO:recovery@lfcs.ca
END:VEVENT
BEGIN:VEVENT
DTSTART;TZID=America/Los_Angeles:20240711T130000
DTEND;TZID=America/Los_Angeles:20240711T150000
DTSTAMP:20260420T222614
CREATED:20240711T194204Z
LAST-MODIFIED:20240711T194204Z
UID:3429-1720702800-1720710000@www.lfcs.ca
SUMMARY:FOOD BANK DAY THURSDAY 1P-3P
DESCRIPTION:Please bring your Id
URL:http://www.lfcs.ca/event/food-bank-day-thursday-1p-3p-2/
LOCATION:Community Cares Building\, 76-5th Avenue\, Lillooet BC\, BC\, V0K1V0\, Canada
END:VEVENT
BEGIN:VEVENT
DTSTART;VALUE=DATE:20240712
DTEND;VALUE=DATE:20240713
DTSTAMP:20260420T222614
CREATED:20240710T174235Z
LAST-MODIFIED:20240710T174235Z
UID:3361-1720742400-1720828799@www.lfcs.ca
SUMMARY:2LGBTQIA+ Questionnaire
DESCRIPTION:“Welcome! We invite you to participate in a questionnaire on Women’s Diversity and LGBTQIA+ Supports and Inclusion.  Please call 250-256-4146 for more information.
URL:http://www.lfcs.ca/event/2lgbtqia-questionnaire/
END:VEVENT
BEGIN:VEVENT
DTSTART;TZID=America/Los_Angeles:20240712T100000
DTEND;TZID=America/Los_Angeles:20240712T150000
DTSTAMP:20260420T222614
CREATED:20240711T172554Z
LAST-MODIFIED:20240711T172554Z
UID:3389-1720778400-1720796400@www.lfcs.ca
SUMMARY:The Juniper Room Day Recovery Program
DESCRIPTION:
URL:http://www.lfcs.ca/event/the-juniper-room-day-recovery-program-11/
ORGANIZER;CN="Shivanii Devii":MAILTO:recovery@lfcs.ca
END:VEVENT
BEGIN:VEVENT
DTSTART;TZID=America/Los_Angeles:20240712T130000
DTEND;TZID=America/Los_Angeles:20240712T150000
DTSTAMP:20260420T222614
CREATED:20240711T194438Z
LAST-MODIFIED:20240711T194438Z
UID:3431-1720789200-1720796400@www.lfcs.ca
SUMMARY:SR Food Bank Day only 1p-3p
DESCRIPTION:
URL:http://www.lfcs.ca/event/sr-food-bank-day-only-1p-3p/
LOCATION:Community Cares Building\, 76-5th Avenue\, Lillooet BC\, BC\, V0K1V0\, Canada
END:VEVENT
BEGIN:VEVENT
DTSTART;VALUE=DATE:20240713
DTEND;VALUE=DATE:20240714
DTSTAMP:20260420T222614
CREATED:20240710T174944Z
LAST-MODIFIED:20240710T174944Z
UID:3366-1720828800-1720915199@www.lfcs.ca
SUMMARY:2LGBTQIA+ Questionnaire
DESCRIPTION:“Welcome! We invite you to participate in a questionnaire on Women’s Diversity and LGBTQIA+ Supports and Inclusion. call 250-256-4146 for more information
URL:http://www.lfcs.ca/event/2lgbtqia-questionnaire-3/
LOCATION:Activity Centre\, 737 Main Street\, Lillooet\, BC\, V0K1V0\, Canada
END:VEVENT
END:VCALENDAR