BEGIN:VCALENDAR
VERSION:2.0
PRODID:-//Lillooet Friendship Centre Society - ECPv6.10.1.1//NONSGML v1.0//EN
CALSCALE:GREGORIAN
METHOD:PUBLISH
X-WR-CALNAME:Lillooet Friendship Centre Society
X-ORIGINAL-URL:http://www.lfcs.ca
X-WR-CALDESC:Events for Lillooet Friendship Centre Society
REFRESH-INTERVAL;VALUE=DURATION:PT1H
X-Robots-Tag:noindex
X-PUBLISHED-TTL:PT1H
BEGIN:VTIMEZONE
TZID:America/Los_Angeles
BEGIN:DAYLIGHT
TZOFFSETFROM:-0800
TZOFFSETTO:-0700
TZNAME:PDT
DTSTART:20240310T100000
END:DAYLIGHT
BEGIN:STANDARD
TZOFFSETFROM:-0700
TZOFFSETTO:-0800
TZNAME:PST
DTSTART:20241103T090000
END:STANDARD
END:VTIMEZONE
BEGIN:VEVENT
DTSTART;TZID=America/Los_Angeles:20240415T130000
DTEND;TZID=America/Los_Angeles:20240415T150000
DTSTAMP:20260421T000721
CREATED:20240328T204522Z
LAST-MODIFIED:20240328T204522Z
UID:3285-1713186000-1713193200@www.lfcs.ca
SUMMARY:FOOD BANK DAY 1P-3P
DESCRIPTION:
URL:http://www.lfcs.ca/event/food-bank-day-1p-3p/
LOCATION:Community Cares Building\, 76-5th Avenue\, Lillooet BC\, BC\, V0K1V0\, Canada
END:VEVENT
BEGIN:VEVENT
DTSTART;TZID=America/Los_Angeles:20240415T100000
DTEND;TZID=America/Los_Angeles:20240415T150000
DTSTAMP:20260421T000721
CREATED:20240328T210455Z
LAST-MODIFIED:20240328T210455Z
UID:3287-1713175200-1713193200@www.lfcs.ca
SUMMARY:Juniper Day Recovery Program
DESCRIPTION:
URL:http://www.lfcs.ca/event/juniper-day-recovery-program-54/
LOCATION:Community Cares Building\, 76-5th Avenue\, Lillooet BC\, BC\, V0K1V0\, Canada
END:VEVENT
BEGIN:VEVENT
DTSTART;TZID=America/Los_Angeles:20240412T130000
DTEND;TZID=America/Los_Angeles:20240412T150000
DTSTAMP:20260421T000721
CREATED:20240328T204114Z
LAST-MODIFIED:20240328T204114Z
UID:3281-1712926800-1712934000@www.lfcs.ca
SUMMARY:SR ONLY FOOD BANK1p-3p
DESCRIPTION:
URL:http://www.lfcs.ca/event/sr-only-food-bank1p-3p/
LOCATION:Community Cares Building\, 76-5th Avenue\, Lillooet BC\, BC\, V0K1V0\, Canada
ORGANIZER;CN="Kim Colliss":MAILTO:foodbank@lfcs.ca
END:VEVENT
BEGIN:VEVENT
DTSTART;TZID=America/Los_Angeles:20240412T100000
DTEND;TZID=America/Los_Angeles:20240412T150000
DTSTAMP:20260421T000721
CREATED:20240328T204232Z
LAST-MODIFIED:20240328T204232Z
UID:3283-1712916000-1712934000@www.lfcs.ca
SUMMARY:Juniper Day Recovery Program 10a-3p
DESCRIPTION:
URL:http://www.lfcs.ca/event/juniper-day-recovery-program-10a-3p-4/
LOCATION:Community Cares Building\, 76-5th Avenue\, Lillooet BC\, BC\, V0K1V0\, Canada
END:VEVENT
BEGIN:VEVENT
DTSTART;TZID=America/Los_Angeles:20240411T130000
DTEND;TZID=America/Los_Angeles:20240411T150000
DTSTAMP:20260421T000721
CREATED:20240328T203247Z
LAST-MODIFIED:20240328T203247Z
UID:3277-1712840400-1712847600@www.lfcs.ca
SUMMARY:LFC FOOD BANK 1P-3P
DESCRIPTION:
URL:http://www.lfcs.ca/event/lfc-food-bank-1p-3p/
LOCATION:Community Cares Building\, 76-5th Avenue\, Lillooet BC\, BC\, V0K1V0\, Canada
ORGANIZER;CN="Kim Colliss":MAILTO:foodbank@lfcs.ca
END:VEVENT
BEGIN:VEVENT
DTSTART;TZID=America/Los_Angeles:20240411T100000
DTEND;TZID=America/Los_Angeles:20240411T150000
DTSTAMP:20260421T000721
CREATED:20240328T203827Z
LAST-MODIFIED:20240328T203827Z
UID:3279-1712829600-1712847600@www.lfcs.ca
SUMMARY:Juniper Day Recovery Program
DESCRIPTION:
URL:http://www.lfcs.ca/event/juniper-day-recovery-program-53/
LOCATION:Community Cares Building\, 76-5th Avenue\, Lillooet BC\, BC\, V0K1V0\, Canada
END:VEVENT
BEGIN:VEVENT
DTSTART;TZID=America/Los_Angeles:20240411T100000
DTEND;TZID=America/Los_Angeles:20240411T120000
DTSTAMP:20260421T000721
CREATED:20240328T220435Z
LAST-MODIFIED:20240328T220435Z
UID:3339-1712829600-1712836800@www.lfcs.ca
SUMMARY:DRUMMING IN THE PARK 10A-12PM
DESCRIPTION:
URL:http://www.lfcs.ca/event/drumming-in-the-park-10a-12pm/
LOCATION:Dowton Park\, Park is situated next to the Lillooet Museum at 780 Main Street.\, BC\, V0K 1V0\, Canada
ORGANIZER;CN="Everett Tom":MAILTO:shelter@lfcs.ca
END:VEVENT
BEGIN:VEVENT
DTSTART;TZID=America/Los_Angeles:20240410T180000
DTEND;TZID=America/Los_Angeles:20240410T200000
DTSTAMP:20260421T000721
CREATED:20240328T211348Z
LAST-MODIFIED:20240328T211348Z
UID:3297-1712772000-1712779200@www.lfcs.ca
SUMMARY:MEN'S GROUP 6P-8P
DESCRIPTION:
URL:http://www.lfcs.ca/event/mens-group-6p-8p/
LOCATION:Community Cares Building\, 76-5th Avenue\, Lillooet BC\, BC\, V0K1V0\, Canada
END:VEVENT
BEGIN:VEVENT
DTSTART;TZID=America/Los_Angeles:20240410T120000
DTEND;TZID=America/Los_Angeles:20240410T130000
DTSTAMP:20260421T000721
CREATED:20240328T202441Z
LAST-MODIFIED:20240328T202441Z
UID:3273-1712750400-1712754000@www.lfcs.ca
SUMMARY:Food Bank Drive Thru Lunch 12p-1p
DESCRIPTION:
URL:http://www.lfcs.ca/event/food-bank-drive-thru-lunch-12p-1p/
LOCATION:Community Cares Building\, 76-5th Avenue\, Lillooet BC\, BC\, V0K1V0\, Canada
ORGANIZER;CN="Kim Colliss":MAILTO:foodbank@lfcs.ca
END:VEVENT
BEGIN:VEVENT
DTSTART;TZID=America/Los_Angeles:20240410T100000
DTEND;TZID=America/Los_Angeles:20240410T150000
DTSTAMP:20260421T000721
CREATED:20240328T202604Z
LAST-MODIFIED:20240328T202604Z
UID:3275-1712743200-1712761200@www.lfcs.ca
SUMMARY:Juniper Day Recovery Program 10a-3p
DESCRIPTION:
URL:http://www.lfcs.ca/event/juniper-day-recovery-program-10a-3p-3/
LOCATION:Community Cares Building\, 76-5th Avenue\, Lillooet BC\, BC\, V0K1V0\, Canada
END:VEVENT
BEGIN:VEVENT
DTSTART;TZID=America/Los_Angeles:20240409T120000
DTEND;TZID=America/Los_Angeles:20240409T130000
DTSTAMP:20260421T000721
CREATED:20240328T201656Z
LAST-MODIFIED:20240328T201656Z
UID:3270-1712664000-1712667600@www.lfcs.ca
SUMMARY:The Better Living Drive Thru Lunch 12p-1p
DESCRIPTION:http://www.lfcs.ca/wp-content/uploads/2024/02/better-living-drive-thru-lunch-tuesdays.mp4
URL:http://www.lfcs.ca/event/the-better-living-drive-thru-lunch-12p-1p/
LOCATION:Community Cares Building\, 76-5th Avenue\, Lillooet BC\, BC\, V0K1V0\, Canada
ORGANIZER;CN="Elaine Roque":MAILTO:elainejroque@gmail.com
END:VEVENT
BEGIN:VEVENT
DTSTART;TZID=America/Los_Angeles:20240408T130000
DTEND;TZID=America/Los_Angeles:20240408T150000
DTSTAMP:20260421T000721
CREATED:20240328T201348Z
LAST-MODIFIED:20240328T201348Z
UID:3266-1712581200-1712588400@www.lfcs.ca
SUMMARY:Food Bank 1p-3p
DESCRIPTION:
URL:http://www.lfcs.ca/event/food-bank-1p-3p/
LOCATION:Community Cares Building\, 76-5th Avenue\, Lillooet BC\, BC\, V0K1V0\, Canada
ORGANIZER;CN="Kim Colliss":MAILTO:foodbank@lfcs.ca
END:VEVENT
BEGIN:VEVENT
DTSTART;TZID=America/Los_Angeles:20240408T100000
DTEND;TZID=America/Los_Angeles:20240408T150000
DTSTAMP:20260421T000721
CREATED:20240328T201449Z
LAST-MODIFIED:20240328T201512Z
UID:3268-1712570400-1712588400@www.lfcs.ca
SUMMARY:Juniper Day Recovery Program 10am-3pm
DESCRIPTION:
URL:http://www.lfcs.ca/event/juniper-day-recovery-program-10am-3pm-2/
LOCATION:Community Cares Building\, 76-5th Avenue\, Lillooet BC\, BC\, V0K1V0\, Canada
END:VEVENT
BEGIN:VEVENT
DTSTART;TZID=America/Los_Angeles:20240405T130000
DTEND;TZID=America/Los_Angeles:20240405T150000
DTSTAMP:20260421T000721
CREATED:20240328T181704Z
LAST-MODIFIED:20240328T181704Z
UID:3259-1712322000-1712329200@www.lfcs.ca
SUMMARY:SR FOOD BANK ONLY FRI 1P-3P
DESCRIPTION:
URL:http://www.lfcs.ca/event/sr-food-bank-only-fri-1p-3p/
LOCATION:Community Cares Building\, 76-5th Avenue\, Lillooet BC\, BC\, V0K1V0\, Canada
ORGANIZER;CN="Kim Colliss":MAILTO:foodbank@lfcs.ca
END:VEVENT
BEGIN:VEVENT
DTSTART;TZID=America/Los_Angeles:20240405T100000
DTEND;TZID=America/Los_Angeles:20240405T150000
DTSTAMP:20260421T000721
CREATED:20240328T182014Z
LAST-MODIFIED:20240328T182014Z
UID:3261-1712311200-1712329200@www.lfcs.ca
SUMMARY:Juniper Day Recovery Program 10a-3p
DESCRIPTION:
URL:http://www.lfcs.ca/event/juniper-day-recovery-program-10a-3p-2/
LOCATION:Community Cares Building\, 76-5th Avenue\, Lillooet BC\, BC\, V0K1V0\, Canada
END:VEVENT
BEGIN:VEVENT
DTSTART;TZID=America/Los_Angeles:20240404T130000
DTEND;TZID=America/Los_Angeles:20240404T150000
DTSTAMP:20260421T000721
CREATED:20240328T181134Z
LAST-MODIFIED:20240328T181134Z
UID:3252-1712235600-1712242800@www.lfcs.ca
SUMMARY:FOOD BANK THUR 1P-3P
DESCRIPTION:
URL:http://www.lfcs.ca/event/food-bank-thur-1p-3p/
LOCATION:Community Cares Building\, 76-5th Avenue\, Lillooet BC\, BC\, V0K1V0\, Canada
ORGANIZER;CN="Kim Colliss":MAILTO:foodbank@lfcs.ca
END:VEVENT
BEGIN:VEVENT
DTSTART;TZID=America/Los_Angeles:20240404T100000
DTEND;TZID=America/Los_Angeles:20240404T150000
DTSTAMP:20260421T000721
CREATED:20240328T181522Z
LAST-MODIFIED:20240328T181522Z
UID:3257-1712224800-1712242800@www.lfcs.ca
SUMMARY:JUNIPER DAY RECOVERY PROGRAM 10AM-3PM
DESCRIPTION:
URL:http://www.lfcs.ca/event/juniper-day-recovery-program-10am-3pm/
LOCATION:Community Cares Building\, 76-5th Avenue\, Lillooet BC\, BC\, V0K1V0\, Canada
END:VEVENT
BEGIN:VEVENT
DTSTART;TZID=America/Los_Angeles:20240404T100000
DTEND;TZID=America/Los_Angeles:20240404T120000
DTSTAMP:20260421T000721
CREATED:20240328T181346Z
LAST-MODIFIED:20240328T181346Z
UID:3254-1712224800-1712232000@www.lfcs.ca
SUMMARY:DRUMMING IN THE PARK 10AM-12PM LUNCH PROVIDED
DESCRIPTION:
URL:http://www.lfcs.ca/event/drumming-in-the-park-10am-12pm-lunch-provided/
LOCATION:Dowton Park\, Park is situated next to the Lillooet Museum at 780 Main Street.\, BC\, V0K 1V0\, Canada
ORGANIZER;CN="Everett Tom":MAILTO:shelter@lfcs.ca
END:VEVENT
BEGIN:VEVENT
DTSTART;TZID=America/Los_Angeles:20240403T180000
DTEND;TZID=America/Los_Angeles:20240403T200000
DTSTAMP:20260421T000721
CREATED:20240328T180917Z
LAST-MODIFIED:20240328T180917Z
UID:3250-1712167200-1712174400@www.lfcs.ca
SUMMARY:MEN'S GROUP 6P-8P WEDNESDAY EVENING
DESCRIPTION:
URL:http://www.lfcs.ca/event/mens-group-6p-8p-wednesday-evening/
LOCATION:Community Cares Building\, 76-5th Avenue\, Lillooet BC\, BC\, V0K1V0\, Canada
ORGANIZER;CN="RILEY ALECK":MAILTO:wellness@lfcs.ca
END:VEVENT
BEGIN:VEVENT
DTSTART;TZID=America/Los_Angeles:20240403T120000
DTEND;TZID=America/Los_Angeles:20240403T130000
DTSTAMP:20260421T000721
CREATED:20240328T180607Z
LAST-MODIFIED:20240328T180607Z
UID:3246-1712145600-1712149200@www.lfcs.ca
SUMMARY:FOOD BANK DRIVE THRU LUNCH 12P-1P WEDNESDAY
DESCRIPTION:
URL:http://www.lfcs.ca/event/food-bank-drive-thru-lunch-12p-1p-wednesday/
LOCATION:Community Cares Building\, 76-5th Avenue\, Lillooet BC\, BC\, V0K1V0\, Canada
ORGANIZER;CN="Kim Colliss":MAILTO:foodbank@lfcs.ca
END:VEVENT
BEGIN:VEVENT
DTSTART;TZID=America/Los_Angeles:20240403T100000
DTEND;TZID=America/Los_Angeles:20240403T150000
DTSTAMP:20260421T000721
CREATED:20240328T180745Z
LAST-MODIFIED:20240328T180745Z
UID:3248-1712138400-1712156400@www.lfcs.ca
SUMMARY:JUNIPER DAY RECOVERY PROGRAM 10AM-3P
DESCRIPTION:
URL:http://www.lfcs.ca/event/juniper-day-recovery-program-10am-3p/
LOCATION:Community Cares Building\, 76-5th Avenue\, Lillooet BC\, BC\, V0K1V0\, Canada
END:VEVENT
BEGIN:VEVENT
DTSTART;TZID=America/Los_Angeles:20240402T120000
DTEND;TZID=America/Los_Angeles:20240402T130000
DTSTAMP:20260421T000721
CREATED:20240328T180010Z
LAST-MODIFIED:20240328T180010Z
UID:3238-1712059200-1712062800@www.lfcs.ca
SUMMARY:Better Living Drive Thru Lunch TUE 12P-1P
DESCRIPTION:http://www.lfcs.ca/wp-content/uploads/2024/02/better-living-drive-thru-lunch-tuesdays.mp4
URL:http://www.lfcs.ca/event/better-living-drive-thru-lunch-tue-12p-1p/
LOCATION:Community Cares Building\, 76-5th Avenue\, Lillooet BC\, BC\, V0K1V0\, Canada
ORGANIZER;CN="Elaine Roque":MAILTO:elainejroque@gmail.com
END:VEVENT
BEGIN:VEVENT
DTSTART;TZID=America/Los_Angeles:20240402T100000
DTEND;TZID=America/Los_Angeles:20240402T150000
DTSTAMP:20260421T000721
CREATED:20240328T180213Z
LAST-MODIFIED:20240328T180213Z
UID:3241-1712052000-1712070000@www.lfcs.ca
SUMMARY:Juniper Day Recovery Program 10a-3p
DESCRIPTION:
URL:http://www.lfcs.ca/event/juniper-day-recovery-program-10a-3p/
LOCATION:Community Cares Building\, 76-5th Avenue\, Lillooet BC\, BC\, V0K1V0\, Canada
END:VEVENT
BEGIN:VEVENT
DTSTART;VALUE=DATE:20240329
DTEND;VALUE=DATE:20240330
DTSTAMP:20260421T000721
CREATED:20240308T193745Z
LAST-MODIFIED:20240308T193745Z
UID:3216-1711670400-1711756799@www.lfcs.ca
SUMMARY:Good Friday STAT
DESCRIPTION:
URL:http://www.lfcs.ca/event/good-friday-stat/
LOCATION:Lillooet Friendship Centre\, 357 Main St\, Lillooet\, British Columbia\, V0K1V0\, Canada
END:VEVENT
BEGIN:VEVENT
DTSTART;TZID=America/Los_Angeles:20240328T130000
DTEND;TZID=America/Los_Angeles:20240328T150000
DTSTAMP:20260421T000721
CREATED:20240307T192354Z
LAST-MODIFIED:20240307T192354Z
UID:3212-1711630800-1711638000@www.lfcs.ca
SUMMARY:FOOD BANK DAY THURSDAY 1P-3P
DESCRIPTION:
URL:http://www.lfcs.ca/event/food-bank-day-thursday-1p-3p/
LOCATION:Community Cares Building\, 76-5th Avenue\, Lillooet BC\, BC\, V0K1V0\, Canada
END:VEVENT
BEGIN:VEVENT
DTSTART;TZID=America/Los_Angeles:20240327T180000
DTEND;TZID=America/Los_Angeles:20240327T200000
DTSTAMP:20260421T000721
CREATED:20240301T175047Z
LAST-MODIFIED:20240301T175047Z
UID:3176-1711562400-1711569600@www.lfcs.ca
SUMMARY:Men's Group Wednesday's 6p-8p
DESCRIPTION:
URL:http://www.lfcs.ca/event/mens-group-wednesdays-6p-8p-3/
LOCATION:Community Cares Building\, 76-5th Avenue\, Lillooet BC\, BC\, V0K1V0\, Canada
ORGANIZER;CN="RILEY ALECK":MAILTO:wellness@lfcs.ca
END:VEVENT
BEGIN:VEVENT
DTSTART;TZID=America/Los_Angeles:20240326T120000
DTEND;TZID=America/Los_Angeles:20240326T130000
DTSTAMP:20260421T000721
CREATED:20240305T234600Z
LAST-MODIFIED:20240305T234600Z
UID:3201-1711454400-1711458000@www.lfcs.ca
SUMMARY:BETTER LIVING DRIVE THRU LUNCH TUESDAYS 1P-3P
DESCRIPTION:http://www.lfcs.ca/wp-content/uploads/2024/02/better-living-drive-thru-lunch-tuesdays.mp4
URL:http://www.lfcs.ca/event/better-living-drive-thru-lunch-tuesdays-1p-3p/
LOCATION:Community Cares Building\, 76-5th Avenue\, Lillooet BC\, BC\, V0K1V0\, Canada
ORGANIZER;CN="Elaine Roque":MAILTO:elainejroque@gmail.com
END:VEVENT
BEGIN:VEVENT
DTSTART;TZID=America/Los_Angeles:20240325T170000
DTEND;TZID=America/Los_Angeles:20240325T203000
DTSTAMP:20260421T000721
CREATED:20240305T233849Z
LAST-MODIFIED:20240305T233849Z
UID:3196-1711386000-1711398600@www.lfcs.ca
SUMMARY:Women's Group Starting Feb 26\, 2024 Monday Evenings 5p-8:30p
DESCRIPTION:
URL:http://www.lfcs.ca/event/womens-group-starting-feb-26-2024-monday-evenings-5p-830p/
LOCATION:Activity Centre\, 737 Main Street\, Lillooet\, BC\, V0K1V0\, Canada
END:VEVENT
BEGIN:VEVENT
DTSTART;TZID=America/Los_Angeles:20240325T130000
DTEND;TZID=America/Los_Angeles:20240325T150000
DTSTAMP:20260421T000721
CREATED:20240305T234051Z
LAST-MODIFIED:20240305T234230Z
UID:3199-1711371600-1711378800@www.lfcs.ca
SUMMARY:LFC FOOD BANK MONDAY'S 1P-3P
DESCRIPTION:
URL:http://www.lfcs.ca/event/lfc-food-bank-mondays-1p-3p-2/
LOCATION:Community Cares Building\, 76-5th Avenue\, Lillooet BC\, BC\, V0K1V0\, Canada
END:VEVENT
BEGIN:VEVENT
DTSTART;TZID=America/Los_Angeles:20240322T130000
DTEND;TZID=America/Los_Angeles:20240322T150000
DTSTAMP:20260421T000721
CREATED:20240307T192238Z
LAST-MODIFIED:20240307T192238Z
UID:3210-1711112400-1711119600@www.lfcs.ca
SUMMARY:SENIOR'S ONLY FOOD BANK DAY FRIDAY 1P-3P
DESCRIPTION:
URL:http://www.lfcs.ca/event/seniors-only-food-bank-day-friday-1p-3p/
LOCATION:Community Cares Building\, 76-5th Avenue\, Lillooet BC\, BC\, V0K1V0\, Canada
END:VEVENT
END:VCALENDAR