BEGIN:VCALENDAR
VERSION:2.0
PRODID:-//Lillooet Friendship Centre Society - ECPv6.10.1.1//NONSGML v1.0//EN
CALSCALE:GREGORIAN
METHOD:PUBLISH
X-WR-CALNAME:Lillooet Friendship Centre Society
X-ORIGINAL-URL:http://www.lfcs.ca
X-WR-CALDESC:Events for Lillooet Friendship Centre Society
REFRESH-INTERVAL;VALUE=DURATION:PT1H
X-Robots-Tag:noindex
X-PUBLISHED-TTL:PT1H
BEGIN:VTIMEZONE
TZID:America/Los_Angeles
BEGIN:DAYLIGHT
TZOFFSETFROM:-0800
TZOFFSETTO:-0700
TZNAME:PDT
DTSTART:20240310T100000
END:DAYLIGHT
BEGIN:STANDARD
TZOFFSETFROM:-0700
TZOFFSETTO:-0800
TZNAME:PST
DTSTART:20241103T090000
END:STANDARD
END:VTIMEZONE
BEGIN:VEVENT
DTSTART;TZID=America/Los_Angeles:20240410T100000
DTEND;TZID=America/Los_Angeles:20240410T150000
DTSTAMP:20260420T222019
CREATED:20240328T202604Z
LAST-MODIFIED:20240328T202604Z
UID:3275-1712743200-1712761200@www.lfcs.ca
SUMMARY:Juniper Day Recovery Program 10a-3p
DESCRIPTION:
URL:http://www.lfcs.ca/event/juniper-day-recovery-program-10a-3p-3/
LOCATION:Community Cares Building\, 76-5th Avenue\, Lillooet BC\, BC\, V0K1V0\, Canada
END:VEVENT
BEGIN:VEVENT
DTSTART;TZID=America/Los_Angeles:20240410T120000
DTEND;TZID=America/Los_Angeles:20240410T130000
DTSTAMP:20260420T222019
CREATED:20240328T202441Z
LAST-MODIFIED:20240328T202441Z
UID:3273-1712750400-1712754000@www.lfcs.ca
SUMMARY:Food Bank Drive Thru Lunch 12p-1p
DESCRIPTION:
URL:http://www.lfcs.ca/event/food-bank-drive-thru-lunch-12p-1p/
LOCATION:Community Cares Building\, 76-5th Avenue\, Lillooet BC\, BC\, V0K1V0\, Canada
ORGANIZER;CN="Kim Colliss":MAILTO:foodbank@lfcs.ca
END:VEVENT
BEGIN:VEVENT
DTSTART;TZID=America/Los_Angeles:20240410T180000
DTEND;TZID=America/Los_Angeles:20240410T200000
DTSTAMP:20260420T222019
CREATED:20240328T211348Z
LAST-MODIFIED:20240328T211348Z
UID:3297-1712772000-1712779200@www.lfcs.ca
SUMMARY:MEN'S GROUP 6P-8P
DESCRIPTION:
URL:http://www.lfcs.ca/event/mens-group-6p-8p/
LOCATION:Community Cares Building\, 76-5th Avenue\, Lillooet BC\, BC\, V0K1V0\, Canada
END:VEVENT
END:VCALENDAR