BEGIN:VCALENDAR
VERSION:2.0
PRODID:-//Lillooet Friendship Centre Society - ECPv6.10.1.1//NONSGML v1.0//EN
CALSCALE:GREGORIAN
METHOD:PUBLISH
X-ORIGINAL-URL:http://www.lfcs.ca
X-WR-CALDESC:Events for Lillooet Friendship Centre Society
REFRESH-INTERVAL;VALUE=DURATION:PT1H
X-Robots-Tag:noindex
X-PUBLISHED-TTL:PT1H
BEGIN:VTIMEZONE
TZID:America/Los_Angeles
BEGIN:DAYLIGHT
TZOFFSETFROM:-0800
TZOFFSETTO:-0700
TZNAME:PDT
DTSTART:20240310T100000
END:DAYLIGHT
BEGIN:STANDARD
TZOFFSETFROM:-0700
TZOFFSETTO:-0800
TZNAME:PST
DTSTART:20241103T090000
END:STANDARD
END:VTIMEZONE
BEGIN:VEVENT
DTSTART;TZID=America/Los_Angeles:20240313T100000
DTEND;TZID=America/Los_Angeles:20240313T150000
DTSTAMP:20260420T222212
CREATED:20240308T204538Z
LAST-MODIFIED:20240308T204538Z
UID:3226-1710324000-1710342000@www.lfcs.ca
SUMMARY:Juniper Day Recovery Program
DESCRIPTION:
URL:http://www.lfcs.ca/event/juniper-day-recovery-program-52/
LOCATION:Community Cares Building\, 76-5th Avenue\, Lillooet BC\, BC\, V0K1V0\, Canada
ORGANIZER;CN="Shivanii Devii":MAILTO:recovery@lfcs.ca
END:VEVENT
BEGIN:VEVENT
DTSTART;TZID=America/Los_Angeles:20240313T120000
DTEND;TZID=America/Los_Angeles:20240313T130000
DTSTAMP:20260420T222212
CREATED:20240305T231201Z
LAST-MODIFIED:20240305T231201Z
UID:3185-1710331200-1710334800@www.lfcs.ca
SUMMARY:LFC FOOD BANK DRIVE THRU LUNCH WEDNESDAYS 12P-1P
DESCRIPTION:
URL:http://www.lfcs.ca/event/lfc-food-bank-drive-thru-lunch-wednesdays-12p-1p-2/
LOCATION:Community Cares Building\, 76-5th Avenue\, Lillooet BC\, BC\, V0K1V0\, Canada
ORGANIZER;CN="Kim Colliss":MAILTO:foodbank@lfcs.ca
END:VEVENT
BEGIN:VEVENT
DTSTART;TZID=America/Los_Angeles:20240313T180000
DTEND;TZID=America/Los_Angeles:20240313T200000
DTSTAMP:20260420T222212
CREATED:20240301T174702Z
LAST-MODIFIED:20240301T175144Z
UID:3172-1710352800-1710360000@www.lfcs.ca
SUMMARY:Men's Group Wednesday's 6p-8p
DESCRIPTION:
URL:http://www.lfcs.ca/event/mens-group-wednesdays-6p-8p/
LOCATION:Community Cares Building\, 76-5th Avenue\, Lillooet BC\, BC\, V0K1V0\, Canada
ORGANIZER;CN="RILEY ALECK":MAILTO:wellness@lfcs.ca
END:VEVENT
END:VCALENDAR