BEGIN:VCALENDAR
VERSION:2.0
PRODID:-//Lillooet Friendship Centre Society - ECPv6.10.1.1//NONSGML v1.0//EN
CALSCALE:GREGORIAN
METHOD:PUBLISH
X-WR-CALNAME:Lillooet Friendship Centre Society
X-ORIGINAL-URL:http://www.lfcs.ca
X-WR-CALDESC:Events for Lillooet Friendship Centre Society
REFRESH-INTERVAL;VALUE=DURATION:PT1H
X-Robots-Tag:noindex
X-PUBLISHED-TTL:PT1H
BEGIN:VTIMEZONE
TZID:America/Los_Angeles
BEGIN:DAYLIGHT
TZOFFSETFROM:-0800
TZOFFSETTO:-0700
TZNAME:PDT
DTSTART:20240310T100000
END:DAYLIGHT
BEGIN:STANDARD
TZOFFSETFROM:-0700
TZOFFSETTO:-0800
TZNAME:PST
DTSTART:20241103T090000
END:STANDARD
END:VTIMEZONE
BEGIN:VEVENT
DTSTART;TZID=America/Los_Angeles:20240308T130000
DTEND;TZID=America/Los_Angeles:20240308T150000
DTSTAMP:20260420T222016
CREATED:20240301T171515Z
LAST-MODIFIED:20240301T171515Z
UID:3161-1709902800-1709910000@www.lfcs.ca
SUMMARY:SENIOR'S  ONLY FOOD BANK 1P-3P
DESCRIPTION:
URL:http://www.lfcs.ca/event/seniors-only-food-bank-1p-3p/
LOCATION:Community Cares Building\, 76-5th Avenue\, Lillooet BC\, BC\, V0K1V0\, Canada
ORGANIZER;CN="Kim Colliss":MAILTO:foodbank@lfcs.ca
END:VEVENT
BEGIN:VEVENT
DTSTART;TZID=America/Los_Angeles:20240308T150000
DTEND;TZID=America/Los_Angeles:20240308T210000
DTSTAMP:20260420T222016
CREATED:20240228T001517Z
LAST-MODIFIED:20240228T001517Z
UID:3130-1709910000-1709931600@www.lfcs.ca
SUMMARY:Healing with Our Own People Weekend Retreat
DESCRIPTION:
URL:http://www.lfcs.ca/event/healing-with-our-own-people-weekend-retreat/
LOCATION:Activity Centre\, 737 Main Street\, Lillooet\, BC\, V0K1V0\, Canada
END:VEVENT
END:VCALENDAR