BEGIN:VCALENDAR
VERSION:2.0
PRODID:-//Lillooet Friendship Centre Society - ECPv6.10.1.1//NONSGML v1.0//EN
CALSCALE:GREGORIAN
METHOD:PUBLISH
X-ORIGINAL-URL:http://www.lfcs.ca
X-WR-CALDESC:Events for Lillooet Friendship Centre Society
REFRESH-INTERVAL;VALUE=DURATION:PT1H
X-Robots-Tag:noindex
X-PUBLISHED-TTL:PT1H
BEGIN:VTIMEZONE
TZID:America/Los_Angeles
BEGIN:DAYLIGHT
TZOFFSETFROM:-0800
TZOFFSETTO:-0700
TZNAME:PDT
DTSTART:20240310T100000
END:DAYLIGHT
BEGIN:STANDARD
TZOFFSETFROM:-0700
TZOFFSETTO:-0800
TZNAME:PST
DTSTART:20241103T090000
END:STANDARD
END:VTIMEZONE
BEGIN:VEVENT
DTSTART;TZID=America/Los_Angeles:20240306T120000
DTEND;TZID=America/Los_Angeles:20240306T130000
DTSTAMP:20260420T222202
CREATED:20240301T171002Z
LAST-MODIFIED:20240301T171002Z
UID:3157-1709726400-1709730000@www.lfcs.ca
SUMMARY:LFC FOOD BANK DRIVE THRU LUNCH WEDNESDAYS 12P-1P
DESCRIPTION:
URL:http://www.lfcs.ca/event/lfc-food-bank-drive-thru-lunch-wednesdays-12p-1p/
LOCATION:Community Cares Building\, 76-5th Avenue\, Lillooet BC\, BC\, V0K1V0\, Canada
ORGANIZER;CN="Kim Colliss":MAILTO:foodbank@lfcs.ca
END:VEVENT
BEGIN:VEVENT
DTSTART;TZID=America/Los_Angeles:20240306T180000
DTEND;TZID=America/Los_Angeles:20240306T200000
DTSTAMP:20260420T222202
CREATED:20240301T174258Z
LAST-MODIFIED:20240301T174258Z
UID:3163-1709748000-1709755200@www.lfcs.ca
SUMMARY:MEN'S GROUP WEDNESDAY EVENINGS 6P-8P
DESCRIPTION:
URL:http://www.lfcs.ca/event/mens-group-wednesday-evenings-6p-8p/
LOCATION:Community Cares Building\, 76-5th Avenue\, Lillooet BC\, BC\, V0K1V0\, Canada
END:VEVENT
END:VCALENDAR