BEGIN:VCALENDAR
VERSION:2.0
PRODID:-//Lillooet Friendship Centre Society - ECPv6.10.1.1//NONSGML v1.0//EN
CALSCALE:GREGORIAN
METHOD:PUBLISH
X-ORIGINAL-URL:http://www.lfcs.ca
X-WR-CALDESC:Events for Lillooet Friendship Centre Society
REFRESH-INTERVAL;VALUE=DURATION:PT1H
X-Robots-Tag:noindex
X-PUBLISHED-TTL:PT1H
BEGIN:VTIMEZONE
TZID:America/Los_Angeles
BEGIN:DAYLIGHT
TZOFFSETFROM:-0800
TZOFFSETTO:-0700
TZNAME:PDT
DTSTART:20240310T100000
END:DAYLIGHT
BEGIN:STANDARD
TZOFFSETFROM:-0700
TZOFFSETTO:-0800
TZNAME:PST
DTSTART:20241103T090000
END:STANDARD
END:VTIMEZONE
BEGIN:VEVENT
DTSTART;TZID=America/Los_Angeles:20240208T100000
DTEND;TZID=America/Los_Angeles:20240208T120000
DTSTAMP:20260420T235423
CREATED:20240208T192041Z
LAST-MODIFIED:20240208T192041Z
UID:3087-1707386400-1707393600@www.lfcs.ca
SUMMARY:DRUMMING IN THE PARK
DESCRIPTION:
URL:http://www.lfcs.ca/event/drumming-in-the-park-12/
LOCATION:Dowton Park\, Park is situated next to the Lillooet Museum at 780 Main Street.\, BC\, V0K 1V0\, Canada
ORGANIZER;CN="Everett Tom":MAILTO:shelter@lfcs.ca
END:VEVENT
BEGIN:VEVENT
DTSTART;TZID=America/Los_Angeles:20240208T130000
DTEND;TZID=America/Los_Angeles:20240208T150000
DTSTAMP:20260420T235423
CREATED:20240208T193902Z
LAST-MODIFIED:20240208T193902Z
UID:3090-1707397200-1707404400@www.lfcs.ca
SUMMARY:LILLOOET FOOD BANK THURSDAYS
DESCRIPTION:
URL:http://www.lfcs.ca/event/lillooet-food-bank-thursdays/
LOCATION:Community Cares Building\, 76-5th Avenue\, Lillooet BC\, BC\, V0K1V0\, Canada
ORGANIZER;CN="Kim Colliss":MAILTO:foodbank@lfcs.ca
END:VEVENT
END:VCALENDAR